BEGIN:VCALENDAR
VERSION:2.0
PRODID:-//Ignite II - ECPv6.15.20//NONSGML v1.0//EN
CALSCALE:GREGORIAN
METHOD:PUBLISH
X-ORIGINAL-URL:https://gmkb.org
X-WR-CALDESC:Events for Ignite II
REFRESH-INTERVAL;VALUE=DURATION:PT1H
X-Robots-Tag:noindex
X-PUBLISHED-TTL:PT1H
BEGIN:VTIMEZONE
TZID:America/New_York
BEGIN:DAYLIGHT
TZOFFSETFROM:-0500
TZOFFSETTO:-0400
TZNAME:EDT
DTSTART:20220313T070000
END:DAYLIGHT
BEGIN:STANDARD
TZOFFSETFROM:-0400
TZOFFSETTO:-0500
TZNAME:EST
DTSTART:20221106T060000
END:STANDARD
BEGIN:DAYLIGHT
TZOFFSETFROM:-0500
TZOFFSETTO:-0400
TZNAME:EDT
DTSTART:20230312T070000
END:DAYLIGHT
BEGIN:STANDARD
TZOFFSETFROM:-0400
TZOFFSETTO:-0500
TZNAME:EST
DTSTART:20231105T060000
END:STANDARD
BEGIN:DAYLIGHT
TZOFFSETFROM:-0500
TZOFFSETTO:-0400
TZNAME:EDT
DTSTART:20240310T070000
END:DAYLIGHT
BEGIN:STANDARD
TZOFFSETFROM:-0400
TZOFFSETTO:-0500
TZNAME:EST
DTSTART:20241103T060000
END:STANDARD
END:VTIMEZONE
BEGIN:VEVENT
DTSTART;TZID=America/New_York:20230227T090000
DTEND;TZID=America/New_York:20230227T170000
DTSTAMP:20260423T202032
CREATED:20230215T202552Z
LAST-MODIFIED:20230215T202552Z
UID:3064-1677488400-1677517200@gmkb.org
SUMMARY:Public Meeting: FDA Rare Disease Day
DESCRIPTION:Monday\, February 27 | 9 a.m.-4:45 p.m. ET | Online \nThe U.S. Food and Drug Administration (FDA) will host Rare Disease Day\, a virtual public meeting\, on February 27\, in global observance of Rare Disease Week. This year’s theme is “Intersections with Rare Diseases – A patient focused event.” Participants will have the unique opportunity to: \n\nHear directly from the FDA on initiatives to advance medical product development for rare diseases.\nEngage with the FDA to provide your perspectives as a patient\, caregiver or family member.\nUnderstand considerations and challenges associated with clinical trials in small populations.\nHear from medical students on rare disease education for medical professionals.\n\nLearn more and register for the event on the FDA’s website.
URL:https://gmkb.org/event/public-meeting-fda-rare-disease-day/
LOCATION:Virtual
END:VEVENT
END:VCALENDAR