BEGIN:VCALENDAR
VERSION:2.0
PRODID:-//Ignite II - ECPv6.15.20//NONSGML v1.0//EN
CALSCALE:GREGORIAN
METHOD:PUBLISH
X-WR-CALNAME:Ignite II
X-ORIGINAL-URL:https://gmkb.org
X-WR-CALDESC:Events for Ignite II
REFRESH-INTERVAL;VALUE=DURATION:PT1H
X-Robots-Tag:noindex
X-PUBLISHED-TTL:PT1H
BEGIN:VTIMEZONE
TZID:America/New_York
BEGIN:DAYLIGHT
TZOFFSETFROM:-0500
TZOFFSETTO:-0400
TZNAME:EDT
DTSTART:20220313T070000
END:DAYLIGHT
BEGIN:STANDARD
TZOFFSETFROM:-0400
TZOFFSETTO:-0500
TZNAME:EST
DTSTART:20221106T060000
END:STANDARD
BEGIN:DAYLIGHT
TZOFFSETFROM:-0500
TZOFFSETTO:-0400
TZNAME:EDT
DTSTART:20230312T070000
END:DAYLIGHT
BEGIN:STANDARD
TZOFFSETFROM:-0400
TZOFFSETTO:-0500
TZNAME:EST
DTSTART:20231105T060000
END:STANDARD
BEGIN:DAYLIGHT
TZOFFSETFROM:-0500
TZOFFSETTO:-0400
TZNAME:EDT
DTSTART:20240310T070000
END:DAYLIGHT
BEGIN:STANDARD
TZOFFSETFROM:-0400
TZOFFSETTO:-0500
TZNAME:EST
DTSTART:20241103T060000
END:STANDARD
END:VTIMEZONE
BEGIN:VEVENT
DTSTART;TZID=America/New_York:20230518T100000
DTEND;TZID=America/New_York:20230518T110000
DTSTAMP:20260423T124632
CREATED:20230213T161949Z
LAST-MODIFIED:20230213T162301Z
UID:3043-1684404000-1684407600@gmkb.org
SUMMARY:We Screen Newborns Don’t We? Progress in DNA-based Population Screening
DESCRIPTION:Thursday\, May 18 | 10 – 11 a.m. ET | Online\n \nRapid advances and decreasing costs of human genome sequencing technologies are accelerating the integration of genomics into clinical practice. Although genomic sequencing has demonstrated utility as an indication-based diagnostic tool for certain diseases\, the full potential of DNA sequencing for population-level screening is yet to be realized. DNA-based population screening has enormous potential to identify people with underlying genetic predisposition to serious diseases such as cancer and heart disease\, who represent 1–2% of the population. Early detection\, disease prevention\, and timely treatment can improve health outcomes and equity\, and usher in a new era of precision public health. \nLearn more and register for this webinar on the CDC Genomics and Precision Health website. \nSpeakers: \nJonathan S. Berg\, MD\, PhD\nBryson Distinguished Professor\, Genetics and Medicine\nUniversity of North Carolina\nChapel Hill\, North Carolina \nLaura Milko\, PhD\nAssistant Professor\, Genetics\nUniversity of North Carolina\nChapel Hill\, North Carolina
URL:https://gmkb.org/event/we-screen-newborns-dont-we-progress-in-dna-based-population-screening/
LOCATION:Virtual
END:VEVENT
END:VCALENDAR