BEGIN:VCALENDAR
VERSION:2.0
PRODID:-//Ignite II - ECPv6.15.20//NONSGML v1.0//EN
CALSCALE:GREGORIAN
METHOD:PUBLISH
X-ORIGINAL-URL:https://gmkb.org
X-WR-CALDESC:Events for Ignite II
REFRESH-INTERVAL;VALUE=DURATION:PT1H
X-Robots-Tag:noindex
X-PUBLISHED-TTL:PT1H
BEGIN:VTIMEZONE
TZID:America/New_York
BEGIN:DAYLIGHT
TZOFFSETFROM:-0500
TZOFFSETTO:-0400
TZNAME:EDT
DTSTART:20220313T070000
END:DAYLIGHT
BEGIN:STANDARD
TZOFFSETFROM:-0400
TZOFFSETTO:-0500
TZNAME:EST
DTSTART:20221106T060000
END:STANDARD
BEGIN:DAYLIGHT
TZOFFSETFROM:-0500
TZOFFSETTO:-0400
TZNAME:EDT
DTSTART:20230312T070000
END:DAYLIGHT
BEGIN:STANDARD
TZOFFSETFROM:-0400
TZOFFSETTO:-0500
TZNAME:EST
DTSTART:20231105T060000
END:STANDARD
BEGIN:DAYLIGHT
TZOFFSETFROM:-0500
TZOFFSETTO:-0400
TZNAME:EDT
DTSTART:20240310T070000
END:DAYLIGHT
BEGIN:STANDARD
TZOFFSETFROM:-0400
TZOFFSETTO:-0500
TZNAME:EST
DTSTART:20241103T060000
END:STANDARD
END:VTIMEZONE
BEGIN:VEVENT
DTSTART;TZID=America/New_York:20230323T150000
DTEND;TZID=America/New_York:20230323T161500
DTSTAMP:20260426T001908
CREATED:20230228T195358Z
LAST-MODIFIED:20230228T195358Z
UID:3102-1679583600-1679588100@gmkb.org
SUMMARY:Data-driven Approaches to Define Rare Genetic Diseases
DESCRIPTION:Thursday\, March 23 | 3 – 4:15 p.m. ET | Online\n \nBeginning September 2022\, NHGRI will host a new seminar series based on its Genomic Innovator Award Program\, which supports innovative work by early-career genomics investigators who are part of consortia or other team-science efforts. Each seminar will feature an early-career researcher and an established researcher. Their presentations will cover specific topics that showcase the creative ways that early-career investigators are accelerating genomics research. \nEach seminar will include two speakers (each giving 20-minute talks) followed by a moderated Q&A session. \nThis seminar will be presented by speakers Melissa Haendel\, Ph.D.\, FACMI of the University of Colorado Anschutz Medical Campus and Jessica Chong\, Ph.D. of the University of Washington School of Medicine. \nPlease note: registration is required. Learn more and register on the Genomic Innovator Seminar Series website.
URL:https://gmkb.org/event/data-driven-approaches-to-define-rare-genetic-diseases/
LOCATION:Virtual
END:VEVENT
END:VCALENDAR