BEGIN:VCALENDAR
VERSION:2.0
PRODID:-//Ignite II - ECPv6.15.20//NONSGML v1.0//EN
CALSCALE:GREGORIAN
METHOD:PUBLISH
X-WR-CALNAME:Ignite II
X-ORIGINAL-URL:https://gmkb.org
X-WR-CALDESC:Events for Ignite II
REFRESH-INTERVAL;VALUE=DURATION:PT1H
X-Robots-Tag:noindex
X-PUBLISHED-TTL:PT1H
BEGIN:VTIMEZONE
TZID:America/New_York
BEGIN:DAYLIGHT
TZOFFSETFROM:-0500
TZOFFSETTO:-0400
TZNAME:EDT
DTSTART:20240310T070000
END:DAYLIGHT
BEGIN:STANDARD
TZOFFSETFROM:-0400
TZOFFSETTO:-0500
TZNAME:EST
DTSTART:20241103T060000
END:STANDARD
BEGIN:DAYLIGHT
TZOFFSETFROM:-0500
TZOFFSETTO:-0400
TZNAME:EDT
DTSTART:20250309T070000
END:DAYLIGHT
BEGIN:STANDARD
TZOFFSETFROM:-0400
TZOFFSETTO:-0500
TZNAME:EST
DTSTART:20251102T060000
END:STANDARD
BEGIN:DAYLIGHT
TZOFFSETFROM:-0500
TZOFFSETTO:-0400
TZNAME:EDT
DTSTART:20260308T070000
END:DAYLIGHT
BEGIN:STANDARD
TZOFFSETFROM:-0400
TZOFFSETTO:-0500
TZNAME:EST
DTSTART:20261101T060000
END:STANDARD
END:VTIMEZONE
BEGIN:VEVENT
DTSTART;VALUE=DATE:20251113
DTEND;VALUE=DATE:20251115
DTSTAMP:20260424T010327
CREATED:20250919T143045Z
LAST-MODIFIED:20250919T143045Z
UID:4552-1762992000-1763164799@gmkb.org
SUMMARY:19th Annual Personalized Medicine Conference
DESCRIPTION:19th Annual Personalized Medicine Conference \nNov 13 – 14 | Dana Point\, CA \nThe Annual Personalized Medicine Conference is designed to provide attendees with an opportunity to develop collaborative solutions to shared challenges in personalized medicine. Participants will exchange views with leading business executives\, clinicians\, journalists\, and patient advocates in an intimate conference setting. \nTo learn more\, visit the event webpage. Please note: Registration is required.
URL:https://gmkb.org/event/19th-annual-personalized-medicine-conference/
LOCATION:The Ritz-Carlton Laguna Niguel
END:VEVENT
END:VCALENDAR