BEGIN:VCALENDAR
VERSION:2.0
PRODID:-//Ignite II - ECPv6.15.20//NONSGML v1.0//EN
CALSCALE:GREGORIAN
METHOD:PUBLISH
X-ORIGINAL-URL:https://gmkb.org
X-WR-CALDESC:Events for Ignite II
REFRESH-INTERVAL;VALUE=DURATION:PT1H
X-Robots-Tag:noindex
X-PUBLISHED-TTL:PT1H
BEGIN:VTIMEZONE
TZID:America/New_York
BEGIN:DAYLIGHT
TZOFFSETFROM:-0500
TZOFFSETTO:-0400
TZNAME:EDT
DTSTART:20220313T070000
END:DAYLIGHT
BEGIN:STANDARD
TZOFFSETFROM:-0400
TZOFFSETTO:-0500
TZNAME:EST
DTSTART:20221106T060000
END:STANDARD
BEGIN:DAYLIGHT
TZOFFSETFROM:-0500
TZOFFSETTO:-0400
TZNAME:EDT
DTSTART:20230312T070000
END:DAYLIGHT
BEGIN:STANDARD
TZOFFSETFROM:-0400
TZOFFSETTO:-0500
TZNAME:EST
DTSTART:20231105T060000
END:STANDARD
BEGIN:DAYLIGHT
TZOFFSETFROM:-0500
TZOFFSETTO:-0400
TZNAME:EDT
DTSTART:20240310T070000
END:DAYLIGHT
BEGIN:STANDARD
TZOFFSETFROM:-0400
TZOFFSETTO:-0500
TZNAME:EST
DTSTART:20241103T060000
END:STANDARD
END:VTIMEZONE
BEGIN:VEVENT
DTSTART;TZID=America/New_York:20230217T100000
DTEND;TZID=America/New_York:20230217T161500
DTSTAMP:20260424T193526
CREATED:20230214T135716Z
LAST-MODIFIED:20230214T135716Z
UID:3053-1676628000-1676650500@gmkb.org
SUMMARY:Application of Artificial Intelligence & Machine Learning for Precision Medicine
DESCRIPTION:Friday\, February 17 | 10 a.m.-4:15 p.m. ET | Online \nThe U.S. Food and Drug Administration (FDA) – in collaboration with the University of Maryland Center of Excellence in Regulatory Science and Innovation (M-CERSI) – will host a one-day virtual public workshop entitled “Application of Artificial Intelligence and Machine Learning for Precision Medicine.” \nThe purpose of this workshop is to review current methodologies\, opportunities\, challenges\, and best practices to address the rapidly changing landscape of artificial intelligence and machine learning in the setting of drug development and precision medicine. \nRead the agenda\, speaker bios\, and register for this free event on the University of Maryland’s website.
URL:https://gmkb.org/event/application-of-artificial-intelligence-machine-learning-for-precision-medicine/
LOCATION:Virtual
END:VEVENT
END:VCALENDAR