BEGIN:VCALENDAR
VERSION:2.0
PRODID:-//Ignite II - ECPv6.15.20//NONSGML v1.0//EN
CALSCALE:GREGORIAN
METHOD:PUBLISH
X-ORIGINAL-URL:https://gmkb.org
X-WR-CALDESC:Events for Ignite II
REFRESH-INTERVAL;VALUE=DURATION:PT1H
X-Robots-Tag:noindex
X-PUBLISHED-TTL:PT1H
BEGIN:VTIMEZONE
TZID:America/New_York
BEGIN:DAYLIGHT
TZOFFSETFROM:-0500
TZOFFSETTO:-0400
TZNAME:EDT
DTSTART:20220313T070000
END:DAYLIGHT
BEGIN:STANDARD
TZOFFSETFROM:-0400
TZOFFSETTO:-0500
TZNAME:EST
DTSTART:20221106T060000
END:STANDARD
BEGIN:DAYLIGHT
TZOFFSETFROM:-0500
TZOFFSETTO:-0400
TZNAME:EDT
DTSTART:20230312T070000
END:DAYLIGHT
BEGIN:STANDARD
TZOFFSETFROM:-0400
TZOFFSETTO:-0500
TZNAME:EST
DTSTART:20231105T060000
END:STANDARD
BEGIN:DAYLIGHT
TZOFFSETFROM:-0500
TZOFFSETTO:-0400
TZNAME:EDT
DTSTART:20240310T070000
END:DAYLIGHT
BEGIN:STANDARD
TZOFFSETFROM:-0400
TZOFFSETTO:-0500
TZNAME:EST
DTSTART:20241103T060000
END:STANDARD
END:VTIMEZONE
BEGIN:VEVENT
DTSTART;TZID=America/New_York:20231030T140000
DTEND;TZID=America/New_York:20231030T150000
DTSTAMP:20260425T075035
CREATED:20230920T160159Z
LAST-MODIFIED:20230920T160159Z
UID:3492-1698674400-1698678000@gmkb.org
SUMMARY:NHGRI Division of Intramural Research Seminar
DESCRIPTION:Monday\, October 30 | 2 – 3 p.m. | Bethesda\, MD & Online \nThe Division of Intramural Research (DIR) sponsors a monthly series of talks by intramural and special guest speakers celebrating genetics and genomics research. Speakers are selected by NHGRI intramural faculty and trainees and cover research topics of interest to a wide audience. \nAll seminars are free and open to the public. Seminar titles and other details are updated on the NHGRI website as information becomes available. \nSpeaker:\nMatthew Hurles\, FMedSci\, FRS\nDirector\, Wellcome Sanger Institute \nCo-Host:\nEric Green\, NHGRI Office of the Director \nView past presentations\, learn more about upcoming seminars\, and register to attend on the NHGRI website.
URL:https://gmkb.org/event/nhgri-division-of-intramural-research-seminar-3/
LOCATION:Virtual
END:VEVENT
END:VCALENDAR