BEGIN:VCALENDAR
VERSION:2.0
PRODID:-//Ignite II - ECPv6.15.20//NONSGML v1.0//EN
CALSCALE:GREGORIAN
METHOD:PUBLISH
X-WR-CALNAME:Ignite II
X-ORIGINAL-URL:https://gmkb.org
X-WR-CALDESC:Events for Ignite II
REFRESH-INTERVAL;VALUE=DURATION:PT1H
X-Robots-Tag:noindex
X-PUBLISHED-TTL:PT1H
BEGIN:VTIMEZONE
TZID:America/New_York
BEGIN:DAYLIGHT
TZOFFSETFROM:-0500
TZOFFSETTO:-0400
TZNAME:EDT
DTSTART:20220313T070000
END:DAYLIGHT
BEGIN:STANDARD
TZOFFSETFROM:-0400
TZOFFSETTO:-0500
TZNAME:EST
DTSTART:20221106T060000
END:STANDARD
BEGIN:DAYLIGHT
TZOFFSETFROM:-0500
TZOFFSETTO:-0400
TZNAME:EDT
DTSTART:20230312T070000
END:DAYLIGHT
BEGIN:STANDARD
TZOFFSETFROM:-0400
TZOFFSETTO:-0500
TZNAME:EST
DTSTART:20231105T060000
END:STANDARD
BEGIN:DAYLIGHT
TZOFFSETFROM:-0500
TZOFFSETTO:-0400
TZNAME:EDT
DTSTART:20240310T070000
END:DAYLIGHT
BEGIN:STANDARD
TZOFFSETFROM:-0400
TZOFFSETTO:-0500
TZNAME:EST
DTSTART:20241103T060000
END:STANDARD
END:VTIMEZONE
BEGIN:VEVENT
DTSTART;TZID=America/New_York:20230921T140000
DTEND;TZID=America/New_York:20230921T150000
DTSTAMP:20260424T104916
CREATED:20230719T130500Z
LAST-MODIFIED:20230920T160713Z
UID:3447-1695304800-1695308400@gmkb.org
SUMMARY:NHGRI Division of Intramural Research Seminar
DESCRIPTION:Thursday\, September 21 | 2 – 3 p.m. | Bethesda\, MD & Online \nThe Division of Intramural Research (DIR) sponsors a monthly series of talks by intramural and special guest speakers celebrating genetics and genomics research. Speakers are selected by NHGRI intramural faculty and trainees and cover research topics of interest to a wide audience. \nAll seminars are free and open to the public. Seminar titles and other details are updated on the NHGRI website as information becomes available. \nSpeaker:\nBrittany Adamson\, Ph.D.\nAssistant Professor\, Department of Molecular Biology and the Lewis-Sigler Institute for Integrative Genomics\nPrinceton University \nHosts: Meru Sadhu and Annette Iturralde Guerrero \n\nView past presentations\, learn more about upcoming seminars\, and register to attend on the NHGRI website.
URL:https://gmkb.org/event/nhgri-division-of-intramural-research-seminar-2/
LOCATION:Virtual
END:VEVENT
END:VCALENDAR