BEGIN:VCALENDAR
VERSION:2.0
PRODID:-//Ignite II - ECPv6.15.20//NONSGML v1.0//EN
CALSCALE:GREGORIAN
METHOD:PUBLISH
X-WR-CALNAME:Ignite II
X-ORIGINAL-URL:https://gmkb.org
X-WR-CALDESC:Events for Ignite II
REFRESH-INTERVAL;VALUE=DURATION:PT1H
X-Robots-Tag:noindex
X-PUBLISHED-TTL:PT1H
BEGIN:VTIMEZONE
TZID:America/New_York
BEGIN:DAYLIGHT
TZOFFSETFROM:-0500
TZOFFSETTO:-0400
TZNAME:EDT
DTSTART:20220313T070000
END:DAYLIGHT
BEGIN:STANDARD
TZOFFSETFROM:-0400
TZOFFSETTO:-0500
TZNAME:EST
DTSTART:20221106T060000
END:STANDARD
BEGIN:DAYLIGHT
TZOFFSETFROM:-0500
TZOFFSETTO:-0400
TZNAME:EDT
DTSTART:20230312T070000
END:DAYLIGHT
BEGIN:STANDARD
TZOFFSETFROM:-0400
TZOFFSETTO:-0500
TZNAME:EST
DTSTART:20231105T060000
END:STANDARD
BEGIN:DAYLIGHT
TZOFFSETFROM:-0500
TZOFFSETTO:-0400
TZNAME:EDT
DTSTART:20240310T070000
END:DAYLIGHT
BEGIN:STANDARD
TZOFFSETFROM:-0400
TZOFFSETTO:-0500
TZNAME:EST
DTSTART:20241103T060000
END:STANDARD
END:VTIMEZONE
BEGIN:VEVENT
DTSTART;TZID=America/New_York:20230425T090000
DTEND;TZID=America/New_York:20230425T163000
DTSTAMP:20260425T113139
CREATED:20230421T134909Z
LAST-MODIFIED:20230421T134909Z
UID:3255-1682413200-1682440200@gmkb.org
SUMMARY:NHGRI National DNA Day 20th Anniversary Symposium
DESCRIPTION:Tuesday\, April 25 | 9 a.m. – 4:30 pm. ET | Online & Bethesda\, MD \nOn National DNA Day this year\, the National Human Genome Research Institute (NHGRI) will host a symposium to commemorate two special milestones: the 20th anniversary of the Human Genome Project’s completion and the 70th anniversary of the discovery of the DNA double helix. \nJoin NHGRI to explore the evolution and future of genomics research\, learn about the greater impacts of genomics on society and discover the wide array of careers in genetics and genomics — from scientists to social media specialists! \nThe program will conclude with the annual Louise M. Slaughter National DNA Day Lecture. \nThis event is free and open to the public. Join in person or virtually. \nLearn more and register on the National DNA Day symposium website.
URL:https://gmkb.org/event/nhgri-national-dna-day-20th-anniversary-symposium/
LOCATION:Virtual
END:VEVENT
END:VCALENDAR