BEGIN:VCALENDAR
VERSION:2.0
PRODID:-//Ignite II - ECPv6.15.20//NONSGML v1.0//EN
CALSCALE:GREGORIAN
METHOD:PUBLISH
X-ORIGINAL-URL:https://gmkb.org
X-WR-CALDESC:Events for Ignite II
REFRESH-INTERVAL;VALUE=DURATION:PT1H
X-Robots-Tag:noindex
X-PUBLISHED-TTL:PT1H
BEGIN:VTIMEZONE
TZID:America/New_York
BEGIN:DAYLIGHT
TZOFFSETFROM:-0500
TZOFFSETTO:-0400
TZNAME:EDT
DTSTART:20230312T070000
END:DAYLIGHT
BEGIN:STANDARD
TZOFFSETFROM:-0400
TZOFFSETTO:-0500
TZNAME:EST
DTSTART:20231105T060000
END:STANDARD
BEGIN:DAYLIGHT
TZOFFSETFROM:-0500
TZOFFSETTO:-0400
TZNAME:EDT
DTSTART:20240310T070000
END:DAYLIGHT
BEGIN:STANDARD
TZOFFSETFROM:-0400
TZOFFSETTO:-0500
TZNAME:EST
DTSTART:20241103T060000
END:STANDARD
BEGIN:DAYLIGHT
TZOFFSETFROM:-0500
TZOFFSETTO:-0400
TZNAME:EDT
DTSTART:20250309T070000
END:DAYLIGHT
BEGIN:STANDARD
TZOFFSETFROM:-0400
TZOFFSETTO:-0500
TZNAME:EST
DTSTART:20251102T060000
END:STANDARD
END:VTIMEZONE
BEGIN:VEVENT
DTSTART;TZID=America/New_York:20240111T150000
DTEND;TZID=America/New_York:20240111T160000
DTSTAMP:20260424T105213
CREATED:20231231T032420Z
LAST-MODIFIED:20231231T032420Z
UID:3802-1704985200-1704988800@gmkb.org
SUMMARY:Global Diversity\, Local Context: The Role of Ancestry\, Genetics\, and Environment on Human Health
DESCRIPTION:Global Diversity\, Local Context: The Role of Ancestry\, Genetics\, and Environment on Human Health \nThursday\, January 11 | 3-4 p.m. ET | In-person & Virtual \nSpeaker: Genevieve Wojcik\, PhD\, MHS\nGenetic Epidemiologist and Assistant Professor of Epidemiology\nJohns Hopkins Bloomberg School of Public Health \nDr. Wojcik’s research focuses on understanding the role of ancestry in genetic risk and developing solutions to address health inequities for diverse and admixed populations\, as well as genetic susceptibility to infectious disease. Her most recent work explores the interaction of genetic ancestry and environment in admixed populations and downstream consequences for genetic risk prediction. Dr. Wojcik is a member of multiple NIH consortia\, including the Population Architecture using Genomics and Epidemiology (PAGE) Study\, the Clinical Genome Resource (ClinGen)\, and the Polygenic Risk Methods in Diverse Populations (PRIMED) Consortium. \nThe Genomics and Health Disparities Lecture Series was formed to enhance opportunities for dialogue about how innovations in genomics research and technology can impact health disparities. Topics will range from basic science to translational research. \nTo learn more and register\, visit the lecture series page. \nPlease note: Zoom registration is required for virtual attendees.
URL:https://gmkb.org/event/global-diversity-local-context-the-role-of-ancestry-genetics-and-environment-on-human-health/
LOCATION:Virtual
END:VEVENT
END:VCALENDAR