BEGIN:VCALENDAR
VERSION:2.0
PRODID:-//Ignite II - ECPv6.15.20//NONSGML v1.0//EN
CALSCALE:GREGORIAN
METHOD:PUBLISH
X-WR-CALNAME:Ignite II
X-ORIGINAL-URL:https://gmkb.org
X-WR-CALDESC:Events for Ignite II
REFRESH-INTERVAL;VALUE=DURATION:PT1H
X-Robots-Tag:noindex
X-PUBLISHED-TTL:PT1H
BEGIN:VTIMEZONE
TZID:America/New_York
BEGIN:DAYLIGHT
TZOFFSETFROM:-0500
TZOFFSETTO:-0400
TZNAME:EDT
DTSTART:20220313T070000
END:DAYLIGHT
BEGIN:STANDARD
TZOFFSETFROM:-0400
TZOFFSETTO:-0500
TZNAME:EST
DTSTART:20221106T060000
END:STANDARD
BEGIN:DAYLIGHT
TZOFFSETFROM:-0500
TZOFFSETTO:-0400
TZNAME:EDT
DTSTART:20230312T070000
END:DAYLIGHT
BEGIN:STANDARD
TZOFFSETFROM:-0400
TZOFFSETTO:-0500
TZNAME:EST
DTSTART:20231105T060000
END:STANDARD
BEGIN:DAYLIGHT
TZOFFSETFROM:-0500
TZOFFSETTO:-0400
TZNAME:EDT
DTSTART:20240310T070000
END:DAYLIGHT
BEGIN:STANDARD
TZOFFSETFROM:-0400
TZOFFSETTO:-0500
TZNAME:EST
DTSTART:20241103T060000
END:STANDARD
END:VTIMEZONE
BEGIN:VEVENT
DTSTART;TZID=America/New_York:20231115T120000
DTEND;TZID=America/New_York:20231115T131500
DTSTAMP:20260424T180313
CREATED:20231029T194313Z
LAST-MODIFIED:20231029T194633Z
UID:3573-1700049600-1700054100@gmkb.org
SUMMARY:NASEM | Roundtable on Genomics and Precision Health - Strategic Plan Reflection on the Roundtable's Work Since 2020
DESCRIPTION:Roundtable on Genomics and Precision Health – Strategic Plan Reflection on the Roundtable’s Work Since 2020 \nWednesday\, November 15 | 12 p.m. ET | Online \nThe Roundtable on Genomics and Precision Health will host a virtual event to highlight the work of the Roundtable since the adoption of its strategic plan in 2020. Speakers will provide their perspectives on the goals and key takeaways heard from workshop and event speakers as well as look ahead to what comes next. Public events include: \n\nImproving Diversity of the Genomics Workforce: A Workshop (2021)\nViews & Voices: Reporting Genetics and Genomics (2022)\nRealizing the Potential of Genomics across the Continuum of Precision Health Care: A Workshop (2022)\nNext-Generation Screening – The Promise and Perils of DNA Sequencing of Newborns at Birth: A Workshop (2023)\n\nThe event will be accessible via webinar. Learn more and register on the event page.
URL:https://gmkb.org/event/nasem-roundtable-on-genomics-and-precision-health-strategic-plan-reflection-on-the-roundtables-work-since-2020/
LOCATION:Virtual
END:VEVENT
END:VCALENDAR