BEGIN:VCALENDAR
VERSION:2.0
PRODID:-//Ignite II - ECPv6.15.20//NONSGML v1.0//EN
CALSCALE:GREGORIAN
METHOD:PUBLISH
X-ORIGINAL-URL:https://gmkb.org
X-WR-CALDESC:Events for Ignite II
REFRESH-INTERVAL;VALUE=DURATION:PT1H
X-Robots-Tag:noindex
X-PUBLISHED-TTL:PT1H
BEGIN:VTIMEZONE
TZID:America/New_York
BEGIN:DAYLIGHT
TZOFFSETFROM:-0500
TZOFFSETTO:-0400
TZNAME:EDT
DTSTART:20220313T070000
END:DAYLIGHT
BEGIN:STANDARD
TZOFFSETFROM:-0400
TZOFFSETTO:-0500
TZNAME:EST
DTSTART:20221106T060000
END:STANDARD
BEGIN:DAYLIGHT
TZOFFSETFROM:-0500
TZOFFSETTO:-0400
TZNAME:EDT
DTSTART:20230312T070000
END:DAYLIGHT
BEGIN:STANDARD
TZOFFSETFROM:-0400
TZOFFSETTO:-0500
TZNAME:EST
DTSTART:20231105T060000
END:STANDARD
BEGIN:DAYLIGHT
TZOFFSETFROM:-0500
TZOFFSETTO:-0400
TZNAME:EDT
DTSTART:20240310T070000
END:DAYLIGHT
BEGIN:STANDARD
TZOFFSETFROM:-0400
TZOFFSETTO:-0500
TZNAME:EST
DTSTART:20241103T060000
END:STANDARD
END:VTIMEZONE
BEGIN:VEVENT
DTSTART;TZID=America/New_York:20230511T120000
DTEND;TZID=America/New_York:20230511T130000
DTSTAMP:20260424T195520
CREATED:20230421T133246Z
LAST-MODIFIED:20230421T133922Z
UID:3248-1683806400-1683810000@gmkb.org
SUMMARY:Duke Precision Medicine Program Forum Series
DESCRIPTION:Thursday\, May 11 | 12-1 p.m. ET | Online \nThe Duke Precision Medicine Program Forum Series features speakers from Duke and beyond working on innovative research in clinical\, translational\, and basic sciences. \nOlivia Dong\, PhD\nSenior Research Health Economist\nRTI Health Solutions \nTitle: How Are Genetic Tests Evaluated for Clinical Use in the UK? \nLearn more and register on the Precision Medicine Forum Series website.
URL:https://gmkb.org/event/duke-precision-medicine-program-forum-series-7/
LOCATION:Virtual
END:VEVENT
END:VCALENDAR