BEGIN:VCALENDAR
VERSION:2.0
PRODID:-//Ignite II - ECPv6.15.20//NONSGML v1.0//EN
CALSCALE:GREGORIAN
METHOD:PUBLISH
X-WR-CALNAME:Ignite II
X-ORIGINAL-URL:https://gmkb.org
X-WR-CALDESC:Events for Ignite II
REFRESH-INTERVAL;VALUE=DURATION:PT1H
X-Robots-Tag:noindex
X-PUBLISHED-TTL:PT1H
BEGIN:VTIMEZONE
TZID:America/New_York
BEGIN:DAYLIGHT
TZOFFSETFROM:-0500
TZOFFSETTO:-0400
TZNAME:EDT
DTSTART:20220313T070000
END:DAYLIGHT
BEGIN:STANDARD
TZOFFSETFROM:-0400
TZOFFSETTO:-0500
TZNAME:EST
DTSTART:20221106T060000
END:STANDARD
BEGIN:DAYLIGHT
TZOFFSETFROM:-0500
TZOFFSETTO:-0400
TZNAME:EDT
DTSTART:20230312T070000
END:DAYLIGHT
BEGIN:STANDARD
TZOFFSETFROM:-0400
TZOFFSETTO:-0500
TZNAME:EST
DTSTART:20231105T060000
END:STANDARD
BEGIN:DAYLIGHT
TZOFFSETFROM:-0500
TZOFFSETTO:-0400
TZNAME:EDT
DTSTART:20240310T070000
END:DAYLIGHT
BEGIN:STANDARD
TZOFFSETFROM:-0400
TZOFFSETTO:-0500
TZNAME:EST
DTSTART:20241103T060000
END:STANDARD
END:VTIMEZONE
BEGIN:VEVENT
DTSTART;TZID=America/New_York:20230222T090000
DTEND;TZID=America/New_York:20230222T100000
DTSTAMP:20260424T095832
CREATED:20230203T141455Z
LAST-MODIFIED:20230203T141455Z
UID:3017-1677056400-1677060000@gmkb.org
SUMMARY:Transforming Health in Singapore Through Precision Medicine
DESCRIPTION:Wednesday\, February 22 | 9 a.m. ET | Virtual \nThis webinar\, Transforming Health in Singapore Through Precision Medicine\, will be presented by Prof. Patrick Tan. \nProf. Patrick Tan is the Executive Director of PRECISE. As Executive Director of PRECISE\, Prof Tan is currently overseeing the implementation of Phase II of Singapore’s Precision Medicine Strategy\, which aims to transform healthcare in Singapore and improve patient outcomes through new insights into the Asian genome and data-driven healthcare solutions. \nVisit the IHCC Educational Webinar Series webpage to learn more and register. \nPlease note: Registration is required for this event.
URL:https://gmkb.org/event/transforming-health-in-singapore-through-precision-medicine/
LOCATION:Virtual
END:VEVENT
END:VCALENDAR