BEGIN:VCALENDAR
VERSION:2.0
PRODID:-//Ignite II - ECPv6.15.20//NONSGML v1.0//EN
CALSCALE:GREGORIAN
METHOD:PUBLISH
X-ORIGINAL-URL:https://gmkb.org
X-WR-CALDESC:Events for Ignite II
REFRESH-INTERVAL;VALUE=DURATION:PT1H
X-Robots-Tag:noindex
X-PUBLISHED-TTL:PT1H
BEGIN:VTIMEZONE
TZID:America/New_York
BEGIN:DAYLIGHT
TZOFFSETFROM:-0500
TZOFFSETTO:-0400
TZNAME:EDT
DTSTART:20220313T070000
END:DAYLIGHT
BEGIN:STANDARD
TZOFFSETFROM:-0400
TZOFFSETTO:-0500
TZNAME:EST
DTSTART:20221106T060000
END:STANDARD
BEGIN:DAYLIGHT
TZOFFSETFROM:-0500
TZOFFSETTO:-0400
TZNAME:EDT
DTSTART:20230312T070000
END:DAYLIGHT
BEGIN:STANDARD
TZOFFSETFROM:-0400
TZOFFSETTO:-0500
TZNAME:EST
DTSTART:20231105T060000
END:STANDARD
BEGIN:DAYLIGHT
TZOFFSETFROM:-0500
TZOFFSETTO:-0400
TZNAME:EDT
DTSTART:20240310T070000
END:DAYLIGHT
BEGIN:STANDARD
TZOFFSETFROM:-0400
TZOFFSETTO:-0500
TZNAME:EST
DTSTART:20241103T060000
END:STANDARD
END:VTIMEZONE
BEGIN:VEVENT
DTSTART;TZID=America/New_York:20231109T100000
DTEND;TZID=America/New_York:20231109T173000
DTSTAMP:20260425T195419
CREATED:20231101T203816Z
LAST-MODIFIED:20231101T203816Z
UID:3590-1699524000-1699551000@gmkb.org
SUMMARY:Transdisciplinary Conference for Future Leaders in Precision Public Health
DESCRIPTION:Transdisciplinary Conference for Future Leaders in Precision Public Health \nThursday\, November 9 | 10 a.m. ET | Online \nThe UNC Eshelman School of Pharmacy’s Precision Public Health Network is sponsoring this free\, virtual conference with expert speakers\, a breakout networking session\, and a virtual poster session. A follow-up workshop will be held on Thursday\, November 16\, from 3-6 p.m. ET to discuss priority-setting for the field. \nFor more information and to register\, visit the event page. \nPlease note: Registration is required.
URL:https://gmkb.org/event/transdisciplinary-conference-for-future-leaders-in-precision-public-health/
LOCATION:Virtual
END:VEVENT
END:VCALENDAR