BEGIN:VCALENDAR
VERSION:2.0
PRODID:-//Ignite II - ECPv6.15.20//NONSGML v1.0//EN
CALSCALE:GREGORIAN
METHOD:PUBLISH
X-ORIGINAL-URL:https://gmkb.org
X-WR-CALDESC:Events for Ignite II
REFRESH-INTERVAL;VALUE=DURATION:PT1H
X-Robots-Tag:noindex
X-PUBLISHED-TTL:PT1H
BEGIN:VTIMEZONE
TZID:America/New_York
BEGIN:DAYLIGHT
TZOFFSETFROM:-0500
TZOFFSETTO:-0400
TZNAME:EDT
DTSTART:20230312T070000
END:DAYLIGHT
BEGIN:STANDARD
TZOFFSETFROM:-0400
TZOFFSETTO:-0500
TZNAME:EST
DTSTART:20231105T060000
END:STANDARD
BEGIN:DAYLIGHT
TZOFFSETFROM:-0500
TZOFFSETTO:-0400
TZNAME:EDT
DTSTART:20240310T070000
END:DAYLIGHT
BEGIN:STANDARD
TZOFFSETFROM:-0400
TZOFFSETTO:-0500
TZNAME:EST
DTSTART:20241103T060000
END:STANDARD
BEGIN:DAYLIGHT
TZOFFSETFROM:-0500
TZOFFSETTO:-0400
TZNAME:EDT
DTSTART:20250309T070000
END:DAYLIGHT
BEGIN:STANDARD
TZOFFSETFROM:-0400
TZOFFSETTO:-0500
TZNAME:EST
DTSTART:20251102T060000
END:STANDARD
END:VTIMEZONE
BEGIN:VEVENT
DTSTART;VALUE=DATE:20240312
DTEND;VALUE=DATE:20240317
DTSTAMP:20260425T211959
CREATED:20231231T050844Z
LAST-MODIFIED:20231231T050844Z
UID:3804-1710201600-1710633599@gmkb.org
SUMMARY:2024 ACMG Annual Clinical Genetics Meeting
DESCRIPTION:2024 ACMG Annual Clinical Genetics Meeting \nMarch 12-16 | Toronto\, Canada \nThe ACMG sponsors an Annual Clinical Genetics Meeting and other events offering educational content in clinical genetics with the purpose of serving its members\, other healthcare professionals and the public. Experience the transformation of medical genetics as treatments can increasingly be tailored with precision medicine and therapeutics. \nTo learn more and register\, visit the meeting website. \nPlease note: Registration is required for in-person attendance and does not include session recordings. ACMG’s Digital Edition for recordings can be purchased separately and will be made available after the conference.
URL:https://gmkb.org/event/2024-acmg-annual-clinical-genetics-meeting/
LOCATION:Metro Toronto Convention Center\, 255 Front St W\, Toronto\, Ontario\, M5V 2W6\, Canada
END:VEVENT
END:VCALENDAR