BEGIN:VCALENDAR
VERSION:2.0
PRODID:-//Ignite II - ECPv6.15.20//NONSGML v1.0//EN
CALSCALE:GREGORIAN
METHOD:PUBLISH
X-ORIGINAL-URL:https://gmkb.org
X-WR-CALDESC:Events for Ignite II
REFRESH-INTERVAL;VALUE=DURATION:PT1H
X-Robots-Tag:noindex
X-PUBLISHED-TTL:PT1H
BEGIN:VTIMEZONE
TZID:America/New_York
BEGIN:DAYLIGHT
TZOFFSETFROM:-0500
TZOFFSETTO:-0400
TZNAME:EDT
DTSTART:20230312T070000
END:DAYLIGHT
BEGIN:STANDARD
TZOFFSETFROM:-0400
TZOFFSETTO:-0500
TZNAME:EST
DTSTART:20231105T060000
END:STANDARD
BEGIN:DAYLIGHT
TZOFFSETFROM:-0500
TZOFFSETTO:-0400
TZNAME:EDT
DTSTART:20240310T070000
END:DAYLIGHT
BEGIN:STANDARD
TZOFFSETFROM:-0400
TZOFFSETTO:-0500
TZNAME:EST
DTSTART:20241103T060000
END:STANDARD
BEGIN:DAYLIGHT
TZOFFSETFROM:-0500
TZOFFSETTO:-0400
TZNAME:EDT
DTSTART:20250309T070000
END:DAYLIGHT
BEGIN:STANDARD
TZOFFSETFROM:-0400
TZOFFSETTO:-0500
TZNAME:EST
DTSTART:20251102T060000
END:STANDARD
END:VTIMEZONE
BEGIN:VEVENT
DTSTART;TZID=America/New_York:20240905T140000
DTEND;TZID=America/New_York:20240905T150000
DTSTAMP:20260424T231828
CREATED:20240807T193521Z
LAST-MODIFIED:20240807T193521Z
UID:4261-1725544800-1725548400@gmkb.org
SUMMARY:NHGRI Division of Intramural Research Seminar Series
DESCRIPTION:The importance of environmental and ancestral context in genetic risk examination for diverse and admixed populations \nThursday\, September 5 | 2 p.m. ET | Hybrid: In-person and Virtual \nSpeaker: Genevieve Wojcik\, PhD\, MHS\nAssistant Professor\, Johns Hopkins Bloomberg School of Public Health \nAs a statistical geneticist and genetic epidemiologist\, Dr. Wojcik’s research focuses on method development for diverse populations\, specifically in admixed populations. Many of her efforts focus on improving statistical methods for complex trait mapping and polygenic risk scores for these populations to address existing health inequities and ensure downstream translation for all. \nThe second arm of Dr. Wojcik’s research program focuses on the genetic susceptibility to infectious disease and vaccine response\, with an eye towards host-pathogen co-evolution. \nFor more information and to register\, visit the seminar series webpage. Please note: Zoom registration is required for virtual attendees.
URL:https://gmkb.org/event/nhgri-division-of-intramural-research-seminar-series/
LOCATION:Lipsett Amphitheater\, 10 Center Dr.\, Bethesda\, MD\, 20814\, United States
END:VEVENT
END:VCALENDAR