BEGIN:VCALENDAR
VERSION:2.0
PRODID:-//Ignite II - ECPv6.15.20//NONSGML v1.0//EN
CALSCALE:GREGORIAN
METHOD:PUBLISH
X-WR-CALNAME:Ignite II
X-ORIGINAL-URL:https://gmkb.org
X-WR-CALDESC:Events for Ignite II
REFRESH-INTERVAL;VALUE=DURATION:PT1H
X-Robots-Tag:noindex
X-PUBLISHED-TTL:PT1H
BEGIN:VTIMEZONE
TZID:America/New_York
BEGIN:DAYLIGHT
TZOFFSETFROM:-0500
TZOFFSETTO:-0400
TZNAME:EDT
DTSTART:20220313T070000
END:DAYLIGHT
BEGIN:STANDARD
TZOFFSETFROM:-0400
TZOFFSETTO:-0500
TZNAME:EST
DTSTART:20221106T060000
END:STANDARD
BEGIN:DAYLIGHT
TZOFFSETFROM:-0500
TZOFFSETTO:-0400
TZNAME:EDT
DTSTART:20230312T070000
END:DAYLIGHT
BEGIN:STANDARD
TZOFFSETFROM:-0400
TZOFFSETTO:-0500
TZNAME:EST
DTSTART:20231105T060000
END:STANDARD
BEGIN:DAYLIGHT
TZOFFSETFROM:-0500
TZOFFSETTO:-0400
TZNAME:EDT
DTSTART:20240310T070000
END:DAYLIGHT
BEGIN:STANDARD
TZOFFSETFROM:-0400
TZOFFSETTO:-0500
TZNAME:EST
DTSTART:20241103T060000
END:STANDARD
END:VTIMEZONE
BEGIN:VEVENT
DTSTART;TZID=America/New_York:20231206T160000
DTEND;TZID=America/New_York:20231206T171500
DTSTAMP:20260425T235518
CREATED:20231129T162532Z
LAST-MODIFIED:20231129T162532Z
UID:3618-1701878400-1701882900@gmkb.org
SUMMARY:Carolina Seminar Series | Precision Medicine Research and Novel Clinical Offerings: Ensuring Equitable Impact Through Implementation Science
DESCRIPTION:Precision Medicine Research and Novel Clinical Offerings: Ensuring Equitable Impact Through Implementation Science \nWednesday\, December 6 | 4 p.m. ET | Online \nSpeakers: Caitlin Allen\, PhD\, MPH\nAssistant Professor\, Medical University of South Carolina \nElizabeth Mayer-Davis\, PhD\, RD\nBoshamer Distinguished Professor of Nutrition and Medicine\, UNC-Chapel Hill \nAs technologies and health interventions expand at a rapid rate in healthcare\, many providers and patients desire quick and efficient incorporation of these new offerings in to practice.  The field of implementation science can be critical in studying the barriers and facilitators to bring options previously available only in the research realm to the clinic. The design and development of health interventions are increasingly informed by implementation science theories\, models\, and frameworks to emphasize diverse reach and improve adoption and increase health equity in under served and marginalized communities. By testing new clinical offerings with implementation science methodologies\, we can improve the quality of health practices for all patients while promoting equity and inclusion and ensuring that the availability of novel clinical offerings does not exacerbate existing health disparities. \nTo learn more and register\, visit the UNC events page. \nPlease note: Registration is required for this seminar.
URL:https://gmkb.org/event/carolina-seminar-series-precision-medicine-research-and-novel-clinical-offerings-ensuring-equitable-impact-through-implementation-science/
LOCATION:Virtual
END:VEVENT
BEGIN:VEVENT
DTSTART;TZID=America/New_York:20231214T140000
DTEND;TZID=America/New_York:20231214T150000
DTSTAMP:20260425T235518
CREATED:20230920T160637Z
LAST-MODIFIED:20230920T160637Z
UID:3494-1702562400-1702566000@gmkb.org
SUMMARY:NHGRI Division of Intramural Research Seminar
DESCRIPTION:Thursday\, December 14 | 2 – 3 p.m. | Bethesda\, MD & Online \nThe Division of Intramural Research (DIR) sponsors a monthly series of talks by intramural and special guest speakers celebrating genetics and genomics research. Speakers are selected by NHGRI intramural faculty and trainees and cover research topics of interest to a wide audience. \nAll seminars are free and open to the public. Seminar titles and other details are updated on the NHGRI website as information becomes available. \nSpeaker:\nMarius Wernig\, M.D.\, Ph.D.\nProfessor in the Departments of Pathology and Chemical and Systems Biology\nStanford University School of Medicine \nHosts: William Gahl\, May Christine Malicdan and Marie Morimoto \n\nView past presentations\, learn more about upcoming seminars\, and register to attend on the NHGRI website.
URL:https://gmkb.org/event/nhgri-division-of-intramural-research-seminar-4/
LOCATION:Virtual
END:VEVENT
BEGIN:VEVENT
DTSTART;TZID=America/New_York:20231221T090000
DTEND;TZID=America/New_York:20231221T100000
DTSTAMP:20260425T235518
CREATED:20231219T032454Z
LAST-MODIFIED:20231219T032454Z
UID:3767-1703149200-1703152800@gmkb.org
SUMMARY:Personalized Risk Assessment for Early Detection of Cancer
DESCRIPTION:Personalized Risk Assessment for Early Detection of Cancer \nThursday\, December 21 | 9 a.m. ET | Online \nSpeaker: Dr. Nora Pashayan \nDr. Pashayan is a Professor of the Epidemiology of Aging and honorary Consultant in Public Health Medicine at the University of Cambridge.  She is a cancer epidemiologist\, a clinician with specialties in both Family Medicine and Public Health Medicine\, and the Director of Training for the International Alliance for Cancer Early Detection. Dr. Pashayan’s primary research field is cancer early detection\, risk stratification\, and population-level screening.  Her research focuses on understanding disease courses\, evaluating screening strategies\, and implementation of novel screening strategies. \nThis talk will introduce the concept of risk-stratified cancer screening and explore the essential considerations for implementation of such a screening program. Examples on integration and implementation will be drawn from the ongoing Canadian study\, PERSPECTIVE I&I. \nTo learn more and register\, visit the GGMC Educational Webinar Series page. \nPlease note: Registration is required for this webinar.
URL:https://gmkb.org/event/personalized-risk-assessment-for-early-detection-of-cancer/
LOCATION:Virtual
END:VEVENT
END:VCALENDAR