BEGIN:VCALENDAR
VERSION:2.0
PRODID:-//Ignite II - ECPv6.15.20//NONSGML v1.0//EN
CALSCALE:GREGORIAN
METHOD:PUBLISH
X-WR-CALNAME:Ignite II
X-ORIGINAL-URL:https://gmkb.org
X-WR-CALDESC:Events for Ignite II
REFRESH-INTERVAL;VALUE=DURATION:PT1H
X-Robots-Tag:noindex
X-PUBLISHED-TTL:PT1H
BEGIN:VTIMEZONE
TZID:America/New_York
BEGIN:DAYLIGHT
TZOFFSETFROM:-0500
TZOFFSETTO:-0400
TZNAME:EDT
DTSTART:20190310T070000
END:DAYLIGHT
BEGIN:STANDARD
TZOFFSETFROM:-0400
TZOFFSETTO:-0500
TZNAME:EST
DTSTART:20191103T060000
END:STANDARD
BEGIN:DAYLIGHT
TZOFFSETFROM:-0500
TZOFFSETTO:-0400
TZNAME:EDT
DTSTART:20200308T070000
END:DAYLIGHT
BEGIN:STANDARD
TZOFFSETFROM:-0400
TZOFFSETTO:-0500
TZNAME:EST
DTSTART:20201101T060000
END:STANDARD
BEGIN:DAYLIGHT
TZOFFSETFROM:-0500
TZOFFSETTO:-0400
TZNAME:EDT
DTSTART:20210314T070000
END:DAYLIGHT
BEGIN:STANDARD
TZOFFSETFROM:-0400
TZOFFSETTO:-0500
TZNAME:EST
DTSTART:20211107T060000
END:STANDARD
BEGIN:DAYLIGHT
TZOFFSETFROM:-0500
TZOFFSETTO:-0400
TZNAME:EDT
DTSTART:20220313T070000
END:DAYLIGHT
BEGIN:STANDARD
TZOFFSETFROM:-0400
TZOFFSETTO:-0500
TZNAME:EST
DTSTART:20221106T060000
END:STANDARD
END:VTIMEZONE
BEGIN:VEVENT
DTSTART;TZID=America/New_York:20211008T080000
DTEND;TZID=America/New_York:20211009T170000
DTSTAMP:20260425T084820
CREATED:20220617T192812Z
LAST-MODIFIED:20220617T192812Z
UID:2438-1633680000-1633798800@gmkb.org
SUMMARY:10th Annual Individualizing Medicine Conference
DESCRIPTION:Mayo Clinic’s Center for Individualized Medicine is hosting their Individualizing Medicine Conference on October 8-9\, 2021 with an on-site location of Jacksonville\, Florida and virtual as an option. \nA variety of scholarships (Registration Scholarship for Nurses or Students\, Genetic Counselor Student Scholarship\, and Brandt Family Scholarship for Early Career Investigators) will be offered. Review scholarship information. \nIn addition\, abstract submissions are welcome through July 1 for a virtual poster session. details at this Details are available. \n 
URL:https://gmkb.org/event/10th-annual-individualizing-medicine-conference/
END:VEVENT
BEGIN:VEVENT
DTSTART;VALUE=DATE:20210929
DTEND;VALUE=DATE:20211002
DTSTAMP:20260425T084820
CREATED:20220617T192418Z
LAST-MODIFIED:20220617T192418Z
UID:2433-1632873600-1633132799@gmkb.org
SUMMARY:6th G2MC International Conference
DESCRIPTION:Virtually join G2MC September 29 – October 1\, 2021 to define collaborative projects and strategies for using genomic advances to improve clinical care globally\, with a particular focus on low-resource settings. Learn more about the event and register to attend.
URL:https://gmkb.org/event/6th-g2mc-international-conference/
LOCATION:Virtual
END:VEVENT
BEGIN:VEVENT
DTSTART;VALUE=DATE:20210917
DTEND;VALUE=DATE:20210919
DTSTAMP:20260425T084820
CREATED:20220617T192612Z
LAST-MODIFIED:20220617T192612Z
UID:2436-1631836800-1632009599@gmkb.org
SUMMARY:6th SingHealth Duke-NUS Scientific Congress
DESCRIPTION:Virtually join SingHealth and Duke-NUS September 17-18\, 2021to hear from a line-up of over 150 local and international speakers across more than 50 sessions as they explore new frontiers in patient care\, research\, and education. Learn more about the event. \n 
URL:https://gmkb.org/event/6th-singhealth-duke-nus-scientific-congress/
LOCATION:Virtual
END:VEVENT
BEGIN:VEVENT
DTSTART;TZID=America/New_York:20210527T120000
DTEND;TZID=America/New_York:20210527T130000
DTSTAMP:20260425T084820
CREATED:20220617T193056Z
LAST-MODIFIED:20220617T193056Z
UID:2441-1622116800-1622120400@gmkb.org
SUMMARY:Duke Genomic And Precision Medicine Forum: T32 Fellows Nathan Bihlmeyer\, PhD And Sarah Heston\, MD
DESCRIPTION:Nathan Bihlmeyer\, PhD\n“Pediatrics\, Proteins\, and Poop:  Molecular Discovery in the Hearts & Parks Study of Children with Obesity” \nSarah Heston\, MD\n“The Gut Resistome after Hematopoietic Stem Cell Transplantation in Children” \nThursday\, May 27\, 12:00-1:00pm \nRegistration is required.
URL:https://gmkb.org/event/duke-genomic-and-precision-medicine-forum-t32-fellows-nathan-bihlmeyer-phd-and-sarah-heston-md/
END:VEVENT
BEGIN:VEVENT
DTSTART;TZID=America/New_York:20210513T120000
DTEND;TZID=America/New_York:20210513T130000
DTSTAMP:20260425T084820
CREATED:20220617T193238Z
LAST-MODIFIED:20220617T193238Z
UID:2443-1620907200-1620910800@gmkb.org
SUMMARY:Duke Genomic And Precision Medicine Forum: Suzanne Bakken\, PhD
DESCRIPTION:Title: “Precision Approaches for Health Communication with Vulnerable and Underserved Populations” \nSpeaker: Suzanne Bakken\, Ph.D. \nAlumni Professor of Nursing and Professor of Biomedical Informatics\nDirector\, Precision in Symptom Self-Management Center\nDirector\, Reducing Health Disparities Through Informatics Pre- and Post-doctoral Training Program\nEditor-in-Chief\, Journal of the American Medical Informatics Association\nColumbia University \nThursday\, May 13\, 12:00-1:00pm \nRegistration Required: Here \n 
URL:https://gmkb.org/event/duke-genomic-and-precision-medicine-forum-suzanne-bakken-phd/
END:VEVENT
BEGIN:VEVENT
DTSTART;VALUE=DATE:20210420
DTEND;VALUE=DATE:20210424
DTSTAMP:20260425T084820
CREATED:20220621T160433Z
LAST-MODIFIED:20220621T161008Z
UID:2470-1618876800-1619222399@gmkb.org
SUMMARY:SGIM Annual Meeting
DESCRIPTION:Join the Society of General Internal Medicine (SGIM) at the premier event for networking and knowledge in the field of academic GIM. The 2021 SGIM Annual Meeting will encompass the breadth and depth of General Internal Medicine\, including health services research\, medical education\, advocacy\, and exemplary clinical care. \nLearn more about the event and register to attend. \n 
URL:https://gmkb.org/event/sgim-annual-meeting/
END:VEVENT
BEGIN:VEVENT
DTSTART;TZID=America/New_York:20210408T120000
DTEND;TZID=America/New_York:20210408T130000
DTSTAMP:20260425T084820
CREATED:20220621T160113Z
LAST-MODIFIED:20220621T160113Z
UID:2466-1617883200-1617886800@gmkb.org
SUMMARY:Duke Genomics and Precision Medicine Forum: Katherine Nathanson\, M.D.
DESCRIPTION:“Cancer Genetics in Populations: from the electronic health record to large scale studies” \nKatherine Nathanson\, M.D. \nPearl Basser Professor for BRCA-Related Research at the Abramson Cancer Center\nUniversity of Pennsylvania \nThursday\, April 8\, 12:00-1:00pm \nRegistration required. \n \n 
URL:https://gmkb.org/event/duke-genomics-and-precision-medicine-forum-katherine-nathanson-m-d/
LOCATION:Zoom
END:VEVENT
BEGIN:VEVENT
DTSTART;TZID=America/New_York:20210325T120000
DTEND;TZID=America/New_York:20210325T130000
DTSTAMP:20260425T084820
CREATED:20220621T160258Z
LAST-MODIFIED:20220621T160258Z
UID:2468-1616673600-1616677200@gmkb.org
SUMMARY:Duke Genomics and Precision Medicine Forum: Kathryn Phillips\, PhD
DESCRIPTION:“Addressing Reimbursement and Economic Challenges for Genomic Medicine: Current Status and Future Directions” \nKathryn Phillips\, Ph.D. \nProfessor of Health Economics and Health Services Research\nDepartment of Clinical Pharmacy\nUniversity of California\, San Francisco \nThursday\, March 25\, 12:00-1:00pm \nRegistration required.
URL:https://gmkb.org/event/duke-genomics-and-precision-medicine-forum-kathryn-phillips-phd/
LOCATION:Zoom
END:VEVENT
BEGIN:VEVENT
DTSTART;TZID=America/New_York:20201217T120000
DTEND;TZID=America/New_York:20201217T130000
DTSTAMP:20260425T084820
CREATED:20220621T160615Z
LAST-MODIFIED:20220621T161157Z
UID:2473-1608206400-1608210000@gmkb.org
SUMMARY:Duke Genomic and Precision Medicine Forum – Matthew Engelhard\, M.D.\, Ph.D.
DESCRIPTION:Matthew Engelhard\, MD\, PhD\nSenior Research Associate\, Department of Psychiatry & Behavioral Sciences\nDuke University\nDecember 17\, 2020\n12 – 1 P.M.\nLearn more and register to attend. \n 
URL:https://gmkb.org/event/duke-genomic-and-precision-medicine-forum-matthew-engelhard-m-d-ph-d/
LOCATION:Zoom
END:VEVENT
BEGIN:VEVENT
DTSTART;TZID=America/New_York:20201203T120000
DTEND;TZID=America/New_York:20201203T130000
DTSTAMP:20260425T084820
CREATED:20220621T160823Z
LAST-MODIFIED:20220621T160823Z
UID:2475-1606996800-1607000400@gmkb.org
SUMMARY:Duke Genomic and Precision Medicine Forum – Ephraim Tsalik\, M.D.\, Ph.D.
DESCRIPTION:Ephraim Tsalik\, MD\, PhD\, Associate Professor of Medicine\nDuke University\nDecember 3\, 2020\n12 – 1 P.M.\nLearn more and register to attend. \n 
URL:https://gmkb.org/event/duke-genomic-and-precision-medicine-forum-ephraim-tsalik-m-d-ph-d/
LOCATION:Zoom
END:VEVENT
BEGIN:VEVENT
DTSTART;TZID=America/New_York:20201119T120000
DTEND;TZID=America/New_York:20201119T130000
DTSTAMP:20260425T084820
CREATED:20220621T161337Z
LAST-MODIFIED:20220621T161337Z
UID:2479-1605787200-1605790800@gmkb.org
SUMMARY:Duke Genomic and Precision Medicine Forum – Brendan Lee\, MD\, PhD
DESCRIPTION:Brendan Lee\, MD\, PhD\nProfessor and Chairman\, Robert and Janice McNair Endowed Chair in Molecular and Human Genetics\nBaylor College of Medicine\nNovember 19\, 2020\n12 – 1 P.M.\nLearn more and register to attend.
URL:https://gmkb.org/event/duke-genomic-and-precision-medicine-forum-brendan-lee-md-phd/
LOCATION:Zoom
END:VEVENT
BEGIN:VEVENT
DTSTART;TZID=America/New_York:20201112T120000
DTEND;TZID=America/New_York:20201112T130000
DTSTAMP:20260425T084820
CREATED:20220621T161549Z
LAST-MODIFIED:20220621T161549Z
UID:2481-1605182400-1605186000@gmkb.org
SUMMARY:Duke Genomic and Precision Medicine Forum – Josephine Li\, MD
DESCRIPTION:Josephine Li\, MD\nEndocrinology Fellow\nMassachusetts General Hospital\nNovember 12\, 2020\n12 – 1 P.M.\nLearn more and register to attend.
URL:https://gmkb.org/event/duke-genomic-and-precision-medicine-forum-josephine-li-md/
LOCATION:Zoom
END:VEVENT
BEGIN:VEVENT
DTSTART;TZID=America/New_York:20201029T120000
DTEND;TZID=America/New_York:20201029T130000
DTSTAMP:20260425T084820
CREATED:20220621T161709Z
LAST-MODIFIED:20220621T161709Z
UID:2483-1603972800-1603976400@gmkb.org
SUMMARY:Duke Genomic and Precision Medicine Forum – Megan Clarke Roberts\, PhD
DESCRIPTION:Megan Clarke Roberts\, PhD\nAssistant Professor in the Division of Pharmaceutical Outcomes; Adjunct Assistant Professor of Health Policy and Management\nUNC Eshelman School of Pharmacy\nOctober 29\, 2020\n12 – 1 P.M.
URL:https://gmkb.org/event/duke-genomic-and-precision-medicine-forum-megan-clarke-roberts-phd/
END:VEVENT
BEGIN:VEVENT
DTSTART;VALUE=DATE:20201027
DTEND;VALUE=DATE:20201031
DTSTAMP:20260425T084820
CREATED:20220621T161823Z
LAST-MODIFIED:20220621T161823Z
UID:2485-1603756800-1604102399@gmkb.org
SUMMARY:American Society Of Human Genetics Annual Meeting
DESCRIPTION:October 27 – 30\, 2020 \nForge lasting collaborations\, present emerging science\, and explore new tools & technologies that will transform your science and accelerate your career growth only at ASHG’s Annual Meeting. \nLearn more about the event and register to attend. \n 
URL:https://gmkb.org/event/american-society-of-human-genetics-annual-meeting/
END:VEVENT
BEGIN:VEVENT
DTSTART;TZID=America/New_York:20201022T120000
DTEND;TZID=America/New_York:20201022T130000
DTSTAMP:20260425T084820
CREATED:20220621T162128Z
LAST-MODIFIED:20220621T162128Z
UID:2487-1603368000-1603371600@gmkb.org
SUMMARY:Duke Genomic and Precision Medicine Forum – Yousuf Zafar\, MD\, MHS
DESCRIPTION:Yousuf Zafar\, MD\, MHS\nAssociate Professor of Medicine and Public Policy\nDirector\, Center for Applied Cancer Health Policy; Director\, HealthCare Innovation\, Duke Cancer Institute; Clinical Associate Director\, Duke Forge\nDuke University\nOctober 22\, 2020\n12 – 1 P.M.
URL:https://gmkb.org/event/duke-genomic-and-precision-medicine-forum-yousuf-zafar-md-mhs/
LOCATION:Zoom
END:VEVENT
BEGIN:VEVENT
DTSTART;TZID=America/New_York:20201015T120000
DTEND;TZID=America/New_York:20201015T130000
DTSTAMP:20260425T084820
CREATED:20220621T162406Z
LAST-MODIFIED:20220621T162406Z
UID:2489-1602763200-1602766800@gmkb.org
SUMMARY:Duke Genomic and Precision Medicine Forum – Geoff Ginsburg\, PhD\, MD
DESCRIPTION:Geoff Ginsburg\, PhD\, MD\nProfessor of Medicine\nDirector\, Duke Center for Applied Genomics and Precision Medicine; Director\, MEDx Initiative\nDuke University\nOctober 15\, 2020\n12 – 1 P.M.
URL:https://gmkb.org/event/duke-genomic-and-precision-medicine-forum-geoff-ginsburg-phd-md/
LOCATION:Zoom
END:VEVENT
BEGIN:VEVENT
DTSTART;TZID=America/New_York:20201008T120000
DTEND;TZID=America/New_York:20201008T130000
DTSTAMP:20260425T084820
CREATED:20220621T162534Z
LAST-MODIFIED:20220621T162534Z
UID:2491-1602158400-1602162000@gmkb.org
SUMMARY:Duke Genomic and Precision Medicine Forum – Lori Orlando\, MD
DESCRIPTION:Lori Orlando\, MD\nAssociate Professor of Medicine\nAssociate Director\, Center for Applied Genomics and Precision Medicine\nDuke University\nOctober 8\, 2020\n12 – 1 P.M.
URL:https://gmkb.org/event/duke-genomic-and-precision-medicine-forum-lori-orlando-md/
LOCATION:Zoom
END:VEVENT
BEGIN:VEVENT
DTSTART;TZID=America/New_York:20201001T120000
DTEND;TZID=America/New_York:20201001T130000
DTSTAMP:20260425T084820
CREATED:20220621T162717Z
LAST-MODIFIED:20220621T162717Z
UID:2493-1601553600-1601557200@gmkb.org
SUMMARY:Duke Genomic and Precision Medicine Forum – John Rumsfeld\, MD\, PhD
DESCRIPTION:John Rumsfeld\, MD\, PhD\nChief Innovation Officer & Chief Science and Quality Officer\nProfessor of Medicine\nAmerican College of Cardiology; University of Colorado School of Medicine\nOctober 1\, 2020\n12 – 1 P.M.
URL:https://gmkb.org/event/duke-genomic-and-precision-medicine-forum-john-rumsfeld-md-phd/
LOCATION:Zoom
END:VEVENT
BEGIN:VEVENT
DTSTART;TZID=America/New_York:20200924T120000
DTEND;TZID=America/New_York:20200924T130000
DTSTAMP:20260425T084820
CREATED:20220621T162845Z
LAST-MODIFIED:20220621T162845Z
UID:2495-1600948800-1600952400@gmkb.org
SUMMARY:Duke Genomic and Precision Medicine Forum – Neal Lakdawala\, MD
DESCRIPTION:Neal Lakdawala\, MD\nAssistant Professor of Medicine\, Brigham and Women’s Hospital\nHarvard Medical School\nSeptember 24\, 2020\n12 – 1 P.M.
URL:https://gmkb.org/event/duke-genomic-and-precision-medicine-forum-neal-lakdawala-md/
LOCATION:Zoom
END:VEVENT
BEGIN:VEVENT
DTSTART;TZID=America/New_York:20200917T120000
DTEND;TZID=America/New_York:20200917T130000
DTSTAMP:20260425T084820
CREATED:20220621T163512Z
LAST-MODIFIED:20220621T163524Z
UID:2497-1600344000-1600347600@gmkb.org
SUMMARY:Duke Genomic and Precision Medicine Forum – Ricardo Henao\, PhD
DESCRIPTION:Ricardo Henao\, PhD\nAssistant Professor in Biostatistics and Bioinformatics and Electrical and Computer Engineering\nDuke University\nSeptember 17\, 2020\n12 – 1 P.M.
URL:https://gmkb.org/event/duke-genomic-and-precision-medicine-forum-ricardo-henao-phd/
LOCATION:Zoom
END:VEVENT
BEGIN:VEVENT
DTSTART;TZID=America/New_York:20200910T120000
DTEND;TZID=America/New_York:20200910T130000
DTSTAMP:20260425T084820
CREATED:20220621T163747Z
LAST-MODIFIED:20220621T163747Z
UID:2500-1599739200-1599742800@gmkb.org
SUMMARY:Duke Genomic and Precision Medicine Forum – Scott Kollins\, PhD
DESCRIPTION:Scott Kollins\, PhD\nProfessor of Psychiatry and Behavioral Sciences\nDuke University\nSeptember 10\, 2020\n12 – 1 P.M.
URL:https://gmkb.org/event/duke-genomic-and-precision-medicine-forum-scott-kollins-phd/
LOCATION:Zoom
END:VEVENT
END:VCALENDAR