BEGIN:VCALENDAR
VERSION:2.0
PRODID:-//Ignite II - ECPv6.15.20//NONSGML v1.0//EN
CALSCALE:GREGORIAN
METHOD:PUBLISH
X-WR-CALNAME:Ignite II
X-ORIGINAL-URL:https://gmkb.org
X-WR-CALDESC:Events for Ignite II
REFRESH-INTERVAL;VALUE=DURATION:PT1H
X-Robots-Tag:noindex
X-PUBLISHED-TTL:PT1H
BEGIN:VTIMEZONE
TZID:America/New_York
BEGIN:DAYLIGHT
TZOFFSETFROM:-0500
TZOFFSETTO:-0400
TZNAME:EDT
DTSTART:20210314T070000
END:DAYLIGHT
BEGIN:STANDARD
TZOFFSETFROM:-0400
TZOFFSETTO:-0500
TZNAME:EST
DTSTART:20211107T060000
END:STANDARD
BEGIN:DAYLIGHT
TZOFFSETFROM:-0500
TZOFFSETTO:-0400
TZNAME:EDT
DTSTART:20220313T070000
END:DAYLIGHT
BEGIN:STANDARD
TZOFFSETFROM:-0400
TZOFFSETTO:-0500
TZNAME:EST
DTSTART:20221106T060000
END:STANDARD
BEGIN:DAYLIGHT
TZOFFSETFROM:-0500
TZOFFSETTO:-0400
TZNAME:EDT
DTSTART:20230312T070000
END:DAYLIGHT
BEGIN:STANDARD
TZOFFSETFROM:-0400
TZOFFSETTO:-0500
TZNAME:EST
DTSTART:20231105T060000
END:STANDARD
END:VTIMEZONE
BEGIN:VEVENT
DTSTART;TZID=America/New_York:20220727T190000
DTEND;TZID=America/New_York:20220727T200000
DTSTAMP:20260425T101648
CREATED:20220614T145445Z
LAST-MODIFIED:20220614T145700Z
UID:2306-1658948400-1658952000@gmkb.org
SUMMARY:Virtual Precision Public Health Webinar
DESCRIPTION:Attend a free virtual precision public health webinar on July 27 from 7:00-8:00pm ET/July 28 from 9-10 am AEST. During this time\, Dr. Ainsley Newson\, Professor of Bioethics at the University of Sydney\, will present “Approaches to Ethical Deliberation in Precision Public Health\,” which will examine how bioethics scholarship should approach issues related to the use of genetics and genomics in precision public health and the appropriate implementation of these technologies. \nThis webinar will be held on Zoom. Registration is required.
URL:https://gmkb.org/event/july-27-virtual-precision-public-health-webinar/
LOCATION:Zoom
END:VEVENT
BEGIN:VEVENT
DTSTART;TZID=America/New_York:20220707T110000
DTEND;TZID=America/New_York:20220707T150000
DTSTAMP:20260425T101648
CREATED:20220629T135711Z
LAST-MODIFIED:20220921T143425Z
UID:2517-1657191600-1657206000@gmkb.org
SUMMARY:Virtual Symposium: Understanding Recent Advances in Genome Technology Development
DESCRIPTION:Understanding Recent Advances in Genome Technology Development\nThursday\, July 7\, 2022 | 11 a.m. – 3 p.m. ET \nRecent improvements in the efficiency\, accuracy and complexity of genomic analyses have been driven by new technological advances. The objective of this live\, virtual symposium is to provide biomedical researchers\, learners and providers with a fundamental understanding of how these new technologies are utilized\, as well as emerging opportunities and challenges associated with their optimization and use. Speakers will discuss genomic technologies that include nanopore and epigenetic sequencing as well as multi-omic analyses of genomic structure and function\, followed by roundtable discussions and participant Q&A. \nThis free event is hosted by the NHGRI Genome Technology Program’s recently funded Technology Development Coordinating Center (TDCC)\, led by the Jackson Laboratory. \nRegistration is required. Learn more and sign up on the Jackson Laboratory’s website.
URL:https://gmkb.org/event/virtual-symposium-understanding-recent-advances-in-genome-technology-development/
LOCATION:Virtual
END:VEVENT
BEGIN:VEVENT
DTSTART;TZID=America/New_York:20220630T123000
DTEND;TZID=America/New_York:20220630T133000
DTSTAMP:20260425T101648
CREATED:20220629T133655Z
LAST-MODIFIED:20220921T143621Z
UID:2513-1656592200-1656595800@gmkb.org
SUMMARY:NHGRI Virtual Lecture: Reflections on Modern Scientific Publishing
DESCRIPTION:Reflections on Modern Scientific Publishing\nThursday\, June 30\, 2022 | 12:30-1:30 p.m. ET  \nSpeaker: Magdalena Skipper\, Ph.D.\nEditor in Chief\, Nature; Chief Editorial Advisor\, Nature Research \nModerator: Eric Green\, M.D.\, Ph.D.\nNHGRI \nThe National Human Genome Research Institute (NHGRI) will host a virtual lecture series throughout 2021 and 2022 that features trailblazers in science communication. Each distinguished speaker is an expert in communicating about genomics across media\, including radio\, podcasting\, writing\, speaking\, publishing and everything in-between. The series aims to demonstrate the various approaches for communicating about genomics as well as the unique challenges and opportunities each medium can bring. \nThese lectures will provide communicators with the opportunity to talk about what it’s like to cover genomics today\, such as the special challenges in reporting on the quickly growing scientific field\, and how it’s changed since the Human Genome Project. \nVisit the NHGRI Genomics and the Media Seminar Series website for more information and viewing options.
URL:https://gmkb.org/event/nhgri-virtual-lecture-reflections-on-modern-scientific-publishing/
LOCATION:Virtual
END:VEVENT
BEGIN:VEVENT
DTSTART;TZID=America/New_York:20220628T080000
DTEND;TZID=America/New_York:20220628T090000
DTSTAMP:20260425T101648
CREATED:20220623T151023Z
LAST-MODIFIED:20220623T151023Z
UID:2508-1656403200-1656406800@gmkb.org
SUMMARY:IHCC Educational Webinar Series
DESCRIPTION:Tuesday\, June 28\, 2022 | 8:00 am ET \nThis webinar will be presented by a guest speaker Dr. Reza Malekzadeh. The title of his talk is “Using the IHCC to Prevent Premature Death Around the Globe.” \nTo learn more about the series\, the upcoming webinar\, guest speaker\, and to register for this event\, please visit the IHCC Educational Webinar Series webpage. \nPlease note: Registration for this event is required.
URL:https://gmkb.org/event/ihcc-educational-webinar-series/
LOCATION:Virtual
END:VEVENT
BEGIN:VEVENT
DTSTART;TZID=America/New_York:20220526T120000
DTEND;TZID=America/New_York:20220526T130000
DTSTAMP:20260425T101648
CREATED:20220616T142821Z
LAST-MODIFIED:20220616T142907Z
UID:2332-1653566400-1653570000@gmkb.org
SUMMARY:Duke Precision Medicine Forum: Sarah Heston\, MD And Nathan Bihlmeyer\, PhD
DESCRIPTION:Join Sarah Heston\, MD and Nathan Bihlmeyer\, PhD on May 26 from 12pm ET – 1pm ET for a discussion on the “Effects of Antibiotic Exposures on the Gut Resistome after Hematopoietic Stem Cell Transplantation in Children” and “Pediatric and Proteins: Unique Biology of Children Undergoing Obesity Interventions and Association to Cardiovascular Health.” Registration is required. \n 
URL:https://gmkb.org/event/duke-precision-medicine-forum-sarah-heston-md-and-nathan-bihlmeyer-phd/
END:VEVENT
BEGIN:VEVENT
DTSTART;TZID=America/New_York:20220525T130000
DTEND;TZID=America/New_York:20220525T150000
DTSTAMP:20260425T101648
CREATED:20220616T143013Z
LAST-MODIFIED:20220616T143013Z
UID:2337-1653483600-1653490800@gmkb.org
SUMMARY:NHGRI Roundtable Discussion: “Does Genetic And Genomic Screening Keep Open The Door To Eugenics?”
DESCRIPTION:Join the National Human Genome Research Institute (NHGRI) on Wednesday\, May 25\, from 1-3 p.m. ET for a conversation on the complexities surrounding historical and present-day eugenics\, scientific racism and ableism in the context of genetic and genomic screening and diagnostic technologies.\n\nTopics covered: \n\nWhat are the historical connections between the eugenics movement and genetic counseling\, and what are their continuing legacies today?\nHow are ethical and scientific experts addressing the development of contemporary genetic counseling\, reproductive choice and clinically informed decision-making?\nHow can the scientific community discuss health\, disease and disability in an empathetic way?\n\nThe NHGRI asked an internationally recognized group of experts to help answer these questions and more. It will also answer select questions from registered audience members. \nThis event is free and open to the public. Sign language interpreting and CART services will be provided. \nRegister here and view the agenda.
URL:https://gmkb.org/event/nhgri-roundtable-discussion-does-genetic-and-genomic-screening-keep-open-the-door-to-eugenics/
END:VEVENT
BEGIN:VEVENT
DTSTART;TZID=America/New_York:20220525T093000
DTEND;TZID=America/New_York:20220525T113000
DTSTAMP:20260425T101648
CREATED:20220616T143121Z
LAST-MODIFIED:20220616T143121Z
UID:2339-1653471000-1653478200@gmkb.org
SUMMARY:Machine Learning Tools For Clinical Researchers: A Pragmatic Approach Series
DESCRIPTION:Join the UNC Core Center for Clinical Research (CCCR) and Program for Precision Medicine in Health Care (PPMH) for “Machine Learning Tools for Clinical Researchers: A Pragmatic Approach Series\,” a free virtual seminar series on May 11 from 9:30am ET – 11:30am ET and May 18 and 25 from 1pm ET – 3pm ET. This series will provide a foundation of knowledge regarding the use of machine learning tools in clinical questions\, define the strengths and limitations of these methods\, explore real-world examples of applied machine learning methodology in clinical research\, and elucidate how machine learning can be used to advance precision medicine research. \nAre you a clinician with an idea for how patient care could be improved with computational decision support tools? Be sure to attend the May 25 session. Pitch your idea (5-10 minute overview) to assembled machine learning experts. Receive guidance and compete for funding from PPMH for analytical support to develop your project. Email precisionmedicine@med.unc.edu for pitch guidelines. \nClick here to register and for more information. \n 
URL:https://gmkb.org/event/machine-learning-tools-for-clinical-researchers-a-pragmatic-approach-series/
END:VEVENT
BEGIN:VEVENT
DTSTART;TZID=America/New_York:20220524T080000
DTEND;TZID=America/New_York:20220525T170000
DTSTAMP:20260425T101648
CREATED:20220616T143841Z
LAST-MODIFIED:20220616T143850Z
UID:2350-1653379200-1653498000@gmkb.org
SUMMARY:Translational Science In Drug Development: Surrogate Endpoints\, Biomarkers\, and More
DESCRIPTION:The Duke Margolis Center for Health Policy\, in collaboration with the FDA\, is convening a virtual two-day workshop May 24-25 from 12pm ET – 4pm ET\, titled “Translational Science in Drug Development: Surrogate Endpoints\, Biomarkers\, and More.” This workshop will be of key relevance to a wide array of faculty\, staff\, and students working in basic\, translational\, and clinical sciences that support the development of therapeutics. \nRegistration is required. \nFor any questions about the workshop\, please feel free to reach out to Erin Soule or Nancy Allen Lapointe. \n  \n 
URL:https://gmkb.org/event/translational-science-in-drug-development-surrogate-endpoints-biomarkers-and-more/
END:VEVENT
BEGIN:VEVENT
DTSTART;TZID=America/New_York:20220523T090000
DTEND;TZID=America/New_York:20220523T100000
DTSTAMP:20260425T101648
CREATED:20220616T143442Z
LAST-MODIFIED:20220616T143442Z
UID:2346-1653296400-1653300000@gmkb.org
SUMMARY:IHCC Educational Webinar
DESCRIPTION:Register for the upcoming International HundredK+ Cohorts Consortium(IHCC) Educational Webinar on May 23\, 2022 at 9am ET/1pm GMT.  Our guest speaker Dr. Mahdi Sheikh will present his talk on “A journey from opium research to the opioid cohort consortium (OPICO)”. To learn more and to register\, please visit the Educational Webinar page on the IHCC Website. \nRegistration is required. Register here. \n 
URL:https://gmkb.org/event/ihcc-educational-webinar-2/
END:VEVENT
BEGIN:VEVENT
DTSTART;TZID=America/New_York:20220523T080000
DTEND;TZID=America/New_York:20220527T170000
DTSTAMP:20260425T101648
CREATED:20220616T143630Z
LAST-MODIFIED:20220616T143630Z
UID:2348-1653292800-1653670800@gmkb.org
SUMMARY:Public Health Genetics Week 2022
DESCRIPTION:During the second annual Public Health Genetics Week\, we will be celebrating the efforts of those individuals who participate in the public health genetics system and seek to raise awareness about the field. \nLearn more about virtual events to attend. \n 
URL:https://gmkb.org/event/public-health-genetics-week-2022/
END:VEVENT
BEGIN:VEVENT
DTSTART;VALUE=DATE:20220519
DTEND;VALUE=DATE:20220521
DTSTAMP:20260425T101648
CREATED:20220617T191610Z
LAST-MODIFIED:20220617T191713Z
UID:2425-1652918400-1653091199@gmkb.org
SUMMARY:16th Annual Personalized Medicine Conference
DESCRIPTION:May 19-20\, 2022 \nConvening more than 500 of the world’s leading clinicians\, industry executives\, investors\, patient advocates\, payers\, policy experts\, and researchers\, the 16th Annual Personalized Medicine Conference will facilitate a cross-sector exchange of perspectives on the scientific\, business\, and policy issues influencing the status and outlook for personalized medicine in the wake of a devastating pandemic that has upended the health care landscape. \nLearn more about the event and register to attend.
URL:https://gmkb.org/event/16th-annual-personalized-medicine-conference/
LOCATION:Ritz-Carlton Laguna Niguel\, Dana Point\, CA
END:VEVENT
BEGIN:VEVENT
DTSTART;TZID=America/New_York:20220518T093000
DTEND;TZID=America/New_York:20220518T113000
DTSTAMP:20260425T101648
CREATED:20220616T143219Z
LAST-MODIFIED:20220616T143219Z
UID:2342-1652866200-1652873400@gmkb.org
SUMMARY:Machine Learning Tools For Clinical Researchers: A Pragmatic Approach Series
DESCRIPTION:Join the UNC Core Center for Clinical Research (CCCR) and Program for Precision Medicine in Health Care (PPMH) for “Machine Learning Tools for Clinical Researchers: A Pragmatic Approach Series\,” a free virtual seminar series on May 11 from 9:30am ET – 11:30am ET and May 18 and 25 from 1pm ET – 3pm ET. This series will provide a foundation of knowledge regarding the use of machine learning tools in clinical questions\, define the strengths and limitations of these methods\, explore real-world examples of applied machine learning methodology in clinical research\, and elucidate how machine learning can be used to advance precision medicine research. \nAre you a clinician with an idea for how patient care could be improved with computational decision support tools? Be sure to attend the May 25 session. Pitch your idea (5-10 minute overview) to assembled machine learning experts. Receive guidance and compete for funding from PPMH for analytical support to develop your project. Email precisionmedicine@med.unc.edu for pitch guidelines. \nClick here to register and for more information. \n 
URL:https://gmkb.org/event/machine-learning-tools-for-clinical-researchers-a-pragmatic-approach-series-2/
END:VEVENT
BEGIN:VEVENT
DTSTART;TZID=America/New_York:20220512T120000
DTEND;TZID=America/New_York:20220512T130000
DTSTAMP:20260425T101648
CREATED:20220616T144004Z
LAST-MODIFIED:20220616T144920Z
UID:2353-1652356800-1652360400@gmkb.org
SUMMARY:Duke Precision Medicine Forum: Katherine Collins\, PhD And Nathan Hawkey\, MD
DESCRIPTION:Katherine Collins\, PhD and Nathan Hawkey\, MD will present at the May 12\, 2022 Duke School of Medicine Genomic and Precision Medicine Forum. See below for speaker and event details.
URL:https://gmkb.org/event/duke-precision-medicine-forum-katherine-collins-phd-and-nathan-hawkey-md/
LOCATION:Zoom
END:VEVENT
BEGIN:VEVENT
DTSTART;TZID=America/New_York:20220511T093000
DTEND;TZID=America/New_York:20220511T113000
DTSTAMP:20260425T101648
CREATED:20220616T143257Z
LAST-MODIFIED:20220616T143257Z
UID:2344-1652261400-1652268600@gmkb.org
SUMMARY:Machine Learning Tools For Clinical Researchers: A Pragmatic Approach Series
DESCRIPTION:Join the UNC Core Center for Clinical Research (CCCR) and Program for Precision Medicine in Health Care (PPMH) for “Machine Learning Tools for Clinical Researchers: A Pragmatic Approach Series\,” a free virtual seminar series on May 11 from 9:30am ET – 11:30am ET and May 18 and 25 from 1pm ET – 3pm ET. This series will provide a foundation of knowledge regarding the use of machine learning tools in clinical questions\, define the strengths and limitations of these methods\, explore real-world examples of applied machine learning methodology in clinical research\, and elucidate how machine learning can be used to advance precision medicine research. \nAre you a clinician with an idea for how patient care could be improved with computational decision support tools? Be sure to attend the May 25 session. Pitch your idea (5-10 minute overview) to assembled machine learning experts. Receive guidance and compete for funding from PPMH for analytical support to develop your project. Email precisionmedicine@med.unc.edu for pitch guidelines. \nClick here to register and for more information. \n 
URL:https://gmkb.org/event/machine-learning-tools-for-clinical-researchers-a-pragmatic-approach-series-3/
END:VEVENT
BEGIN:VEVENT
DTSTART;VALUE=DATE:20220510
DTEND;VALUE=DATE:20220513
DTSTAMP:20260425T101648
CREATED:20220617T175429Z
LAST-MODIFIED:20220617T175429Z
UID:2370-1652140800-1652399999@gmkb.org
SUMMARY:CPIC-PGRN Meeting: Diversifying PGx Science To Improve Implementation
DESCRIPTION:Network affiliate\, OneOme\, will present “The importance of genotyping multiethnic high-frequency CYP2C9 alleles in pharmacogenomic testing.” The CPIC: PGRN In-person Meeting will be held May 10\, 11\, and 12 at the University of Colorado Anschutz. \n 
URL:https://gmkb.org/event/cpic-pgrn-meeting-diversifying-pgx-science-to-improve-implementation/
END:VEVENT
BEGIN:VEVENT
DTSTART;TZID=America/New_York:20220506T120000
DTEND;TZID=America/New_York:20220506T130000
DTSTAMP:20260425T101648
CREATED:20220616T145204Z
LAST-MODIFIED:20220616T145204Z
UID:2355-1651838400-1651842000@gmkb.org
SUMMARY:ELSIconversations: Utility Of Population Descriptors In Clinical Genetics
DESCRIPTION:Register to attend the upcoming ELSIconversations discussion\, titled “Utility of Population Descriptors in Clinical Genetics.” \nRegister Here \nWhen: May 6\, 2022 from 12:00-1:00 pm ET/9:00-10:00 am PT \nQuestion: What is the most important information\, conceptually\, for clinical genetics professionals to do their jobs well? Is the information always necessary; if not\, when is it critical vs. extraneous? When is it potentially harmful? \nGoal: Distill the most relevant information among population descriptors that serves a purpose in the clinical curation pipeline\, or other clinical genetics work \nSpeakers: \n\nCarlee Dawson\, BA: Diversity Measures in Genomic Medicine\nDee McKnight\, PhD: How Race\, Ethnicity\, and Ancestry Information is Used in Genetic Diagnostics: One Lab’s Perspective\nJulia Gimbernat-Mayol\, MEng: Clinical Genetics Laboratories Use Divergent Demographic Frameworks Across Countries\n\nModerator: Shoumita Dasgupta\, PhD \nPlease watch the above videos before attending the discussion (click on each title next to speaker names above to access the video). During the session\, the presenters will answer questions about their research and take part in an open discussion with all attendees. Please bring your questions\, join the discussion\, and expect to network with your colleagues. We hope you will make new connections and start new conversations on ELSI research. \n 
URL:https://gmkb.org/event/elsiconversations-utility-of-population-descriptors-in-clinical-genetics/
LOCATION:Virtual
END:VEVENT
BEGIN:VEVENT
DTSTART;TZID=America/New_York:20220428T120000
DTEND;TZID=America/New_York:20220428T130000
DTSTAMP:20260425T101648
CREATED:20220617T175054Z
LAST-MODIFIED:20220617T175054Z
UID:2368-1651147200-1651150800@gmkb.org
SUMMARY:Duke Precision Medicine Forum: Samira Musah\, PhD
DESCRIPTION:Join us for the next Duke Precision Medicine Forum on April 28\, 2022 at 12 p.m. EST Registration is required. \n 
URL:https://gmkb.org/event/duke-precision-medicine-forum-samira-musah-phd-2/
END:VEVENT
BEGIN:VEVENT
DTSTART;TZID=America/New_York:20220427T140000
DTEND;TZID=America/New_York:20220427T150000
DTSTAMP:20260425T101648
CREATED:20220617T175714Z
LAST-MODIFIED:20220617T175714Z
UID:2372-1651068000-1651071600@gmkb.org
SUMMARY:Advancing Implementation Science In Precision Public Health: Balancing Dynamism\, Evolution And Sustainment
DESCRIPTION:Attend a virtual webinar with Dr. David Chambers from the National Cancer Institute\, titled “Advancing Implementation Science in Precision Public Health: Balancing Dynamism\, Evolution and Sustainment.” \nWhen: April 27\, 2022\, 2-3pm ET \nRegistration is required.  \nThis event is co-hosted by the Future Leaders in Precision Public Health and the CDC Office of Genomics and Precision Public Health.
URL:https://gmkb.org/event/advancing-implementation-science-in-precision-public-health-balancing-dynamism-evolution-and-sustainment/
END:VEVENT
BEGIN:VEVENT
DTSTART;TZID=America/New_York:20220425T130000
DTEND;TZID=America/New_York:20220425T140000
DTSTAMP:20260425T101648
CREATED:20220616T145645Z
LAST-MODIFIED:20220616T145645Z
UID:2358-1650891600-1650895200@gmkb.org
SUMMARY:NHGRI Virtual Louise M. Slaughter National DNA Day Lecture
DESCRIPTION:Today\, April 25\, is National DNA Day\, which commemorates the completion of the Human Genome Project in 2003 and the discovery of DNA’s double-helical structure in 1953. Please join the NHGRI today from 1:00 PM to 2:00 PM ET for the virtual Louise M. Slaughter National DNA Day Lecture. This year’s speaker is Carter Clinton\, Ph.D.\, postdoctoral scholar at Pennsylvania State University in the Departments of Anthropology and Biology. He will share his research\, which looks to the past to improve our understanding of health disparities in African Americans today\, with an emphasis on the importance of diversity in genomic databases. A moderated Q&A session will follow the presentation. \nRegistration is required. \nThe annual Louise M. Slaughter National DNA Day Lecture honors the life and legacy of the late Representative Louise M. Slaughter (D-N.Y.). Congresswoman Slaughter was a strong advocate for genomics research\, and her tireless work on the Genetic Information Nondiscrimination Act (GINA) helps protect Americans from discrimination in health insurance and employment based on genetic information. She was also responsible for passing the 2003 concurrent resolution in the U.S. House of Representatives that created National DNA Day. \nFor additional information\, visit the lecture event page.
URL:https://gmkb.org/event/nhgri-virtual-louise-m-slaughter-national-dna-day-lecture/
END:VEVENT
BEGIN:VEVENT
DTSTART;TZID=America/New_York:20220422T120000
DTEND;TZID=America/New_York:20220422T130000
DTSTAMP:20260425T101648
CREATED:20220617T175916Z
LAST-MODIFIED:20220617T180013Z
UID:2375-1650628800-1650632400@gmkb.org
SUMMARY:Duke School Of Medicine Genomic Seminar Series: Diana Bianchi\, MD
DESCRIPTION:Duke School of Medicine Genomic Seminar Series\, hosted by the Precision Genomics Collaboratory\, will take place Friday\, April 22 from 12-1 pm ET on Zoom with Diana Bianchi\, MD\, from National Institute of Child Health and Development \nLearn more about the event. \n 
URL:https://gmkb.org/event/duke-school-of-medicine-genomic-seminar-series-diana-bianchi-md/
LOCATION:Zoom
END:VEVENT
BEGIN:VEVENT
DTSTART;TZID=America/New_York:20220414T120000
DTEND;TZID=America/New_York:20220414T130000
DTSTAMP:20260425T101648
CREATED:20220617T180234Z
LAST-MODIFIED:20220617T180523Z
UID:2379-1649937600-1649941200@gmkb.org
SUMMARY:Duke Genomic & Precision Medicine Forum: Jeanette McCarthy\, MPH\, PhD
DESCRIPTION:Attend the next Duke Center for Applied Genomics & Precision Medicine Forum on April 14\, 2022 at 12 pm ET \nRegistration is required.
URL:https://gmkb.org/event/2379/
LOCATION:Zoom
END:VEVENT
BEGIN:VEVENT
DTSTART;TZID=America/New_York:20220408T120000
DTEND;TZID=America/New_York:20220408T130000
DTSTAMP:20260425T101648
CREATED:20220616T145949Z
LAST-MODIFIED:20220616T145949Z
UID:2361-1649419200-1649422800@gmkb.org
SUMMARY:Duke Precision Medicine Forum: Samira Musah\, PhD
DESCRIPTION:Join Duke Precision Medicine for an upcoming forum on April 28\, 2022 at 12 pm ET. Registration is required.
URL:https://gmkb.org/event/duke-precision-medicine-forum-samira-musah-phd/
END:VEVENT
BEGIN:VEVENT
DTSTART;VALUE=DATE:20220406
DTEND;VALUE=DATE:20220408
DTSTAMP:20260425T101648
CREATED:20220617T180703Z
LAST-MODIFIED:20220617T180703Z
UID:2385-1649203200-1649375999@gmkb.org
SUMMARY:NHGRI: Future Directions In Genomics And Health Equity Research
DESCRIPTION:The National Human Genome Research Institute (NHGRI) will host a virtual workshop entitled “Future Directions in Genomics and Health Equity Research” on April 6-7. The goal of the workshop is to identify research gaps and opportunities that will help to decrease health disparities and improve health equity in genomics. \nRegister in advance. \n 
URL:https://gmkb.org/event/nhgri-future-directions-in-genomics-and-health-equity-research/
LOCATION:Virtual
END:VEVENT
BEGIN:VEVENT
DTSTART;VALUE=DATE:20220330
DTEND;VALUE=DATE:20220401
DTSTAMP:20260425T101648
CREATED:20220617T181214Z
LAST-MODIFIED:20220617T181214Z
UID:2387-1648598400-1648771199@gmkb.org
SUMMARY:U-PGx Personalised Medicine Symposium
DESCRIPTION:The Ubiquitous Pharmacogenomics (U-PGx) project Personalized Medicine Symposium will be organized as a hybrid meeting in Leiden\, the Netherlands on March 30-31\, 2022. \nLearn more about the event and register to attend. \n \n 
URL:https://gmkb.org/event/u-pgx-personalised-medicine-symposium/
LOCATION:Leiden
END:VEVENT
BEGIN:VEVENT
DTSTART;TZID=America/New_York:20220324T120000
DTEND;TZID=America/New_York:20220324T130000
DTSTAMP:20260425T101648
CREATED:20220617T180414Z
LAST-MODIFIED:20220617T180414Z
UID:2382-1648123200-1648126800@gmkb.org
SUMMARY:Duke Genomic & Precision Medicine Forum Series: Deepak Voora\, MD
DESCRIPTION:Attend the next Duke Center for Applied Genomics & Precision Medicine Forum on March 24\, 2022 at 12 p.m. EST \nRegistration is required. \n 
URL:https://gmkb.org/event/duke-genomic-precision-medicine-forum-series-deepak-voora-md/
END:VEVENT
BEGIN:VEVENT
DTSTART;TZID=America/New_York:20220310T120000
DTEND;TZID=America/New_York:20220310T130000
DTSTAMP:20260425T101648
CREATED:20220617T184023Z
LAST-MODIFIED:20220617T184023Z
UID:2398-1646913600-1646917200@gmkb.org
SUMMARY:Duke Genomic & Precision Medicine Forum Series: Rahul Deo\, MD\, PhD
DESCRIPTION:Attend the next Duke Center for Applied Genomics & Precision Medicine Forum on March 10\, 2022 at 12 pm ET. \nRegistration is required. \n 
URL:https://gmkb.org/event/duke-genomic-precision-medicine-forum-series-rahul-deo-md-phd/
LOCATION:Zoom
END:VEVENT
BEGIN:VEVENT
DTSTART;TZID=America/New_York:20220308T173000
DTEND;TZID=America/New_York:20220308T183000
DTSTAMP:20260425T101648
CREATED:20220617T183733Z
LAST-MODIFIED:20220617T183733Z
UID:2396-1646760600-1646764200@gmkb.org
SUMMARY:NHGRI Genomics And The Media Seminar Series
DESCRIPTION:5:30 p.m. – 6:30 p.m. ET on Zoom \nSpeaker: Joe Palca\, Ph.D.\nScience Correspondent\, NPR \nModerator: Sarah Bates\, M.S.\nNHGRI \nLearn more about the event and register to attend. \n 
URL:https://gmkb.org/event/nhgri-genomics-and-the-media-seminar-series/
LOCATION:Zoom
END:VEVENT
BEGIN:VEVENT
DTSTART;TZID=America/New_York:20220228T140000
DTEND;TZID=America/New_York:20220228T150000
DTSTAMP:20260425T101648
CREATED:20220617T184247Z
LAST-MODIFIED:20220617T184247Z
UID:2400-1646056800-1646060400@gmkb.org
SUMMARY:IHCC Educational Series: Michèle Ramsay And Andrew May
DESCRIPTION:Join the next IHCC Educational webinar on February 28\, 2022 at 2 pm ET. \nLearn more about the event and register to attend. \n \n 
URL:https://gmkb.org/event/ihcc-educational-series-michele-ramsay-and-andrew-may/
LOCATION:Virtual
END:VEVENT
BEGIN:VEVENT
DTSTART;TZID=America/New_York:20220224T120000
DTEND;TZID=America/New_York:20220224T130000
DTSTAMP:20260425T101648
CREATED:20220617T184416Z
LAST-MODIFIED:20220617T184416Z
UID:2402-1645704000-1645707600@gmkb.org
SUMMARY:Duke Genomic & Precision Medicine Forum Series: William E. Kraus\, MD
DESCRIPTION:Attend the next Duke Center for Applied Genomics & Precision Medicine Forum on February 24\, 2022 at 12 pm ET. \nRegister in advance.
URL:https://gmkb.org/event/duke-genomic-precision-medicine-forum-series-william-e-kraus-md/
LOCATION:Zoom
END:VEVENT
BEGIN:VEVENT
DTSTART;TZID=America/New_York:20220221T160000
DTEND;TZID=America/New_York:20220221T170000
DTSTAMP:20260425T101648
CREATED:20220617T184917Z
LAST-MODIFIED:20220617T185042Z
UID:2404-1645459200-1645462800@gmkb.org
SUMMARY:Duke Precision Genomics Collaboratory Seminar Series: Eric Green\, MD\, PhD
DESCRIPTION:Duke School of Medicine Genomic Seminar Series hosted by the Precision Genomics Collaboratory\nMonday\, February 21\, 4-5 pm ET \n“Creating the Fourth Chapter of Human Genomics” \nEric Green\, MD\, PhD\nDirector\, National Human Genome Research Institute \nLocation: 103 Bryan Research (Duke) & live streamed \nTo attend in person\, please register here \nZoom link: https://duke.zoom.us/j/91326652217?pwd=cHZ5L1RMVVEycENVcmxvekl2dFFNUT09 \n \n 
URL:https://gmkb.org/event/2404/
END:VEVENT
END:VCALENDAR