BEGIN:VCALENDAR
VERSION:2.0
PRODID:-//Ignite II - ECPv6.15.20//NONSGML v1.0//EN
CALSCALE:GREGORIAN
METHOD:PUBLISH
X-ORIGINAL-URL:https://gmkb.org
X-WR-CALDESC:Events for Ignite II
REFRESH-INTERVAL;VALUE=DURATION:PT1H
X-Robots-Tag:noindex
X-PUBLISHED-TTL:PT1H
BEGIN:VTIMEZONE
TZID:America/New_York
BEGIN:DAYLIGHT
TZOFFSETFROM:-0500
TZOFFSETTO:-0400
TZNAME:EDT
DTSTART:20230312T070000
END:DAYLIGHT
BEGIN:STANDARD
TZOFFSETFROM:-0400
TZOFFSETTO:-0500
TZNAME:EST
DTSTART:20231105T060000
END:STANDARD
BEGIN:DAYLIGHT
TZOFFSETFROM:-0500
TZOFFSETTO:-0400
TZNAME:EDT
DTSTART:20240310T070000
END:DAYLIGHT
BEGIN:STANDARD
TZOFFSETFROM:-0400
TZOFFSETTO:-0500
TZNAME:EST
DTSTART:20241103T060000
END:STANDARD
BEGIN:DAYLIGHT
TZOFFSETFROM:-0500
TZOFFSETTO:-0400
TZNAME:EDT
DTSTART:20250309T070000
END:DAYLIGHT
BEGIN:STANDARD
TZOFFSETFROM:-0400
TZOFFSETTO:-0500
TZNAME:EST
DTSTART:20251102T060000
END:STANDARD
END:VTIMEZONE
BEGIN:VEVENT
DTSTART;VALUE=DATE:20240403
DTEND;VALUE=DATE:20240405
DTSTAMP:20260425T134416
CREATED:20240108T033826Z
LAST-MODIFIED:20240108T033826Z
UID:3826-1712102400-1712275199@gmkb.org
SUMMARY:All of Us Researchers Convention
DESCRIPTION:All of Us Researchers Convention \nApril 3-4 | Virtual \nThis free\, virtual event is open to researchers across all disciplines and career stages. It provides an opportunity for researchers who use All of Us data to showcase their work for others who share their interests in precision medicine. Abstract submissions can be on any topic. Both in-progress and previously published research projects are eligible for submission. Submit an abstract by January 19\, 2024 at 11:59 p.m. ET. \nFor more information about the convention and updates on when registration opens\, visit the event website. \nPlease note: Registration is required for this event.
URL:https://gmkb.org/event/all-of-us-researchers-convention/
LOCATION:Virtual
END:VEVENT
END:VCALENDAR