BEGIN:VCALENDAR
VERSION:2.0
PRODID:-//Ignite II - ECPv6.15.20//NONSGML v1.0//EN
CALSCALE:GREGORIAN
METHOD:PUBLISH
X-ORIGINAL-URL:https://gmkb.org
X-WR-CALDESC:Events for Ignite II
REFRESH-INTERVAL;VALUE=DURATION:PT1H
X-Robots-Tag:noindex
X-PUBLISHED-TTL:PT1H
BEGIN:VTIMEZONE
TZID:America/New_York
BEGIN:DAYLIGHT
TZOFFSETFROM:-0500
TZOFFSETTO:-0400
TZNAME:EDT
DTSTART:20230312T070000
END:DAYLIGHT
BEGIN:STANDARD
TZOFFSETFROM:-0400
TZOFFSETTO:-0500
TZNAME:EST
DTSTART:20231105T060000
END:STANDARD
BEGIN:DAYLIGHT
TZOFFSETFROM:-0500
TZOFFSETTO:-0400
TZNAME:EDT
DTSTART:20240310T070000
END:DAYLIGHT
BEGIN:STANDARD
TZOFFSETFROM:-0400
TZOFFSETTO:-0500
TZNAME:EST
DTSTART:20241103T060000
END:STANDARD
BEGIN:DAYLIGHT
TZOFFSETFROM:-0500
TZOFFSETTO:-0400
TZNAME:EDT
DTSTART:20250309T070000
END:DAYLIGHT
BEGIN:STANDARD
TZOFFSETFROM:-0400
TZOFFSETTO:-0500
TZNAME:EST
DTSTART:20251102T060000
END:STANDARD
END:VTIMEZONE
BEGIN:VEVENT
DTSTART;VALUE=DATE:20240326
DTEND;VALUE=DATE:20240329
DTSTAMP:20260425T175443
CREATED:20231231T202746Z
LAST-MODIFIED:20231231T202746Z
UID:3807-1711411200-1711670399@gmkb.org
SUMMARY:2024 Precision Medicine Tri-Conference
DESCRIPTION:2024 Precision Medicine Tri-Conference \nMarch 26-28 | San Diego\, CA \nJoin thousands of international thought leaders to discuss the latest research\, technologies\, innovation and business models in precision medicine and precision health. Topics will include innovation and market access strategies for at-home diagnostics\, liquid biopsy and advanced diagnostics for precision oncology\, AI and digital tools\, spatial biology and single-cell multiomics in advancing precision medicine and more. \nTo learn more and register\, visit the conference website. \nPlease note: Registration is required for both in-person and virtual attendees.
URL:https://gmkb.org/event/2024-precision-medicine-tri-conference/
LOCATION:Hilton San Diego Bayfront\, 1 Park Boulevard\, San Diego\, CA\, 92101\, United States
END:VEVENT
END:VCALENDAR