BEGIN:VCALENDAR
VERSION:2.0
PRODID:-//Ignite II - ECPv6.15.20//NONSGML v1.0//EN
CALSCALE:GREGORIAN
METHOD:PUBLISH
X-WR-CALNAME:Ignite II
X-ORIGINAL-URL:https://gmkb.org
X-WR-CALDESC:Events for Ignite II
REFRESH-INTERVAL;VALUE=DURATION:PT1H
X-Robots-Tag:noindex
X-PUBLISHED-TTL:PT1H
BEGIN:VTIMEZONE
TZID:America/New_York
BEGIN:DAYLIGHT
TZOFFSETFROM:-0500
TZOFFSETTO:-0400
TZNAME:EDT
DTSTART:20230312T070000
END:DAYLIGHT
BEGIN:STANDARD
TZOFFSETFROM:-0400
TZOFFSETTO:-0500
TZNAME:EST
DTSTART:20231105T060000
END:STANDARD
BEGIN:DAYLIGHT
TZOFFSETFROM:-0500
TZOFFSETTO:-0400
TZNAME:EDT
DTSTART:20240310T070000
END:DAYLIGHT
BEGIN:STANDARD
TZOFFSETFROM:-0400
TZOFFSETTO:-0500
TZNAME:EST
DTSTART:20241103T060000
END:STANDARD
BEGIN:DAYLIGHT
TZOFFSETFROM:-0500
TZOFFSETTO:-0400
TZNAME:EDT
DTSTART:20250309T070000
END:DAYLIGHT
BEGIN:STANDARD
TZOFFSETFROM:-0400
TZOFFSETTO:-0500
TZNAME:EST
DTSTART:20251102T060000
END:STANDARD
END:VTIMEZONE
BEGIN:VEVENT
DTSTART;TZID=America/New_York:20240215T090000
DTEND;TZID=America/New_York:20240215T100000
DTSTAMP:20260425T175501
CREATED:20240209T230341Z
LAST-MODIFIED:20240209T230341Z
UID:3874-1707987600-1707991200@gmkb.org
SUMMARY:Personalized Therapeutics: Clinical Reality and Future Challenges
DESCRIPTION:Personalized Therapeutics: Clinical Reality and Future Challenges \nThursday\, February 15 | 9 a.m. ET | Virtual \nSpeaker: George P. Patrinos \nDr. Patrinos is a professor of pharmacogenomics and pharmaceutical biotechnology in the University of Patras’ (Greece) Department of Pharmacy\, and holds adjunct professorships at Erasmus MC\, Faculty of Medicine\, Rotterdam (the Netherlands) and the United Arab Emirates University\, College of Medicine\, Department of Genetics and Genomics\, Al-Ain (UAE). He also served for 12.5 years as full member and Greece’s National Representative in the CHMP Pharmacogenomics Working Party of the European Medicines Agency (EMA) and as Chair of the Global Genomic Medicine Collaborative (G2MC) since 2018. \nAbout the Talk: This talk will provide a summary of the PREPARE and Em-HEART clinical studies in psychiatry and cardiology\, and ethical and regulatory challenges in the field of pharmacogenomics. \nTo learn more and register\, visit the GGMC Educational Webinar Series webpage. \nPlease note: Registration is required.
URL:https://gmkb.org/event/personalized-therapeutics-clinical-reality-and-future-challenges/
LOCATION:Virtual
END:VEVENT
BEGIN:VEVENT
DTSTART;TZID=America/New_York:20240215T130000
DTEND;TZID=America/New_York:20240215T140000
DTSTAMP:20260425T175501
CREATED:20231229T052112Z
LAST-MODIFIED:20231229T052112Z
UID:3800-1708002000-1708005600@gmkb.org
SUMMARY:Population Screening for Hereditary Hemochromatosis More than a Quarter Century After Gene Discovery – Current Status and the Path Forward
DESCRIPTION:Population Screening for Hereditary Hemochromatosis More than a Quarter Century After Gene Discovery –\nCurrent Status and the Path Forward \nThursday\, February 15 | 1-2 p.m. ET | Virtual \nSpeakers: Paul C. Adams\, MD\, Professor\, Division of Gastroenterology\, Western University \nGail P. Jarvik\, MD\, PhD\, Head and Professor\, Division of Medical Genetics\, University of Washington \nKris V. Kowdley\, MD\, FACP\, FACG\, AGAF\, FAASLD\, Director\, Liver Institute Northwest \nIn this webinar\, speakers will discuss how knowledge about hereditary hemochromatosis (HH) has evolved since the discovery of the HFE gene in 1997\, current opportunities for clinical and public health action to prevent disease\, and future research priorities to advance case detection and reduce clinical complications from HH. \nTo learn more and register\, visit the CDC events page. \nPlease note: Registration is required for this webinar.
URL:https://gmkb.org/event/population-screening-for-hereditary-hemochromatosis-more-than-a-quarter-century-after-gene-discovery-current-status-and-the-path-forward/
LOCATION:Virtual
END:VEVENT
END:VCALENDAR